BEGIN:VCALENDAR
VERSION:2.0
PRODID:-//Coyote Grill at San Ignacio - ECPv6.15.18//NONSGML v1.0//EN
CALSCALE:GREGORIAN
METHOD:PUBLISH
X-WR-CALNAME:Coyote Grill at San Ignacio
X-ORIGINAL-URL:https://www.coyote-grill.com
X-WR-CALDESC:Events for Coyote Grill at San Ignacio
REFRESH-INTERVAL;VALUE=DURATION:PT1H
X-Robots-Tag:noindex
X-PUBLISHED-TTL:PT1H
BEGIN:VTIMEZONE
TZID:UTC
BEGIN:STANDARD
TZOFFSETFROM:+0000
TZOFFSETTO:+0000
TZNAME:UTC
DTSTART:20250101T000000
END:STANDARD
END:VTIMEZONE
BEGIN:VEVENT
DTSTART;TZID=UTC:20260417T120000
DTEND;TZID=UTC:20260417T150000
DTSTAMP:20260420T095303
CREATED:20260329T204653Z
LAST-MODIFIED:20260329T204653Z
UID:10000280-1776427200-1776438000@www.coyote-grill.com
SUMMARY:Paint and Sip with Gracefully Painting
DESCRIPTION:Join Donnette Keys of Gracefully Painting to create a masterpiece of your very own! Every Friday features a different painting – please use the Eventbrite link below to see upcoming topics. Join us for a meal before or after the session\, and don’t forget to fuel your inner artist with a drink or two while you paint! Reservations are made through Eventbrite\, not the Coyote Grill.
URL:https://www.coyote-grill.com/event/paint-and-sip-with-gracefully-painting-3/2026-04-17/
CATEGORIES:All Ages,Fun
END:VEVENT
BEGIN:VEVENT
DTSTART;TZID=UTC:20260415T170000
DTEND;TZID=UTC:20260415T190000
DTSTAMP:20260420T095303
CREATED:20260302T184924Z
LAST-MODIFIED:20260302T185121Z
UID:10000015-1776272400-1776279600@www.coyote-grill.com
SUMMARY:Karen Cannon - Easy Listening Instrumental Guitar
DESCRIPTION:Join beloved local easy-listening instrumental guitarist Karen Cannon in our dining room every Wednesday evening. Reservations are strongly recommended.
URL:https://www.coyote-grill.com/event/karen-cannon-easy-listening-instrumental-guitar-in-the-dining-room/2026-04-15/
CATEGORIES:All Ages,Fun,Music
END:VEVENT
BEGIN:VEVENT
DTSTART;TZID=UTC:20260412T170000
DTEND;TZID=UTC:20260412T200000
DTSTAMP:20260420T095303
CREATED:20260319T012953Z
LAST-MODIFIED:20260319T012953Z
UID:10000275-1776013200-1776024000@www.coyote-grill.com
SUMMARY:Wine Dinner Featuring Stags' Leap - Napa Valley
DESCRIPTION:Join us for a four-course paired menu featuring wines from Stags’ Leap. $85/person\, reservations required. See flyer for menu details.
URL:https://www.coyote-grill.com/event/wine-dinner-featuring-stags-leap-napa-valley/2026-04-12/
CATEGORIES:21+,Fun,Wine
END:VEVENT
BEGIN:VEVENT
DTSTART;TZID=UTC:20260411T140000
DTEND;TZID=UTC:20260411T180000
DTSTAMP:20260420T095303
CREATED:20260309T192535Z
LAST-MODIFIED:20260309T192535Z
UID:10000273-1775916000-1775930400@www.coyote-grill.com
SUMMARY:Johnny Bencomo - Country and Cowboy Music
DESCRIPTION:18-string guitarist and cowboy singer straight out of the Old West. Patio\, first come\, first served – no reservations will be taken.
URL:https://www.coyote-grill.com/event/johnny-bencomo-country-and-cowboy-music/2026-04-11/
CATEGORIES:All Ages,Fun,Music
END:VEVENT
BEGIN:VEVENT
DTSTART;TZID=UTC:20260410T120000
DTEND;TZID=UTC:20260410T150000
DTSTAMP:20260420T095303
CREATED:20260329T204653Z
LAST-MODIFIED:20260329T204653Z
UID:10000279-1775822400-1775833200@www.coyote-grill.com
SUMMARY:Paint and Sip with Gracefully Painting
DESCRIPTION:Join Donnette Keys of Gracefully Painting to create a masterpiece of your very own! Every Friday features a different painting – please use the Eventbrite link below to see upcoming topics. Join us for a meal before or after the session\, and don’t forget to fuel your inner artist with a drink or two while you paint! Reservations are made through Eventbrite\, not the Coyote Grill.
URL:https://www.coyote-grill.com/event/paint-and-sip-with-gracefully-painting-3/2026-04-10/
CATEGORIES:All Ages,Fun
END:VEVENT
BEGIN:VEVENT
DTSTART;TZID=UTC:20260408T170000
DTEND;TZID=UTC:20260408T190000
DTSTAMP:20260420T095303
CREATED:20260302T184924Z
LAST-MODIFIED:20260302T185121Z
UID:10000014-1775667600-1775674800@www.coyote-grill.com
SUMMARY:Karen Cannon - Easy Listening Instrumental Guitar
DESCRIPTION:Join beloved local easy-listening instrumental guitarist Karen Cannon in our dining room every Wednesday evening. Reservations are strongly recommended.
URL:https://www.coyote-grill.com/event/karen-cannon-easy-listening-instrumental-guitar-in-the-dining-room/2026-04-08/
CATEGORIES:All Ages,Fun,Music
END:VEVENT
BEGIN:VEVENT
DTSTART;TZID=UTC:20260405T150000
DTEND;TZID=UTC:20260405T190000
DTSTAMP:20260420T095303
CREATED:20260301T185555Z
LAST-MODIFIED:20260301T185555Z
UID:10000008-1775401200-1775415600@www.coyote-grill.com
SUMMARY:Easter Dinner
DESCRIPTION:Special Easter Dinner menu by our 4-time Silver Spoon Award-winning Executive Chef\, Michael Veres. Reservations required.
URL:https://www.coyote-grill.com/event/easter-dinner/
CATEGORIES:All Ages,Holiday
END:VEVENT
BEGIN:VEVENT
DTSTART;TZID=UTC:20260405T100000
DTEND;TZID=UTC:20260405T123000
DTSTAMP:20260420T095303
CREATED:20260301T185127Z
LAST-MODIFIED:20260301T185407Z
UID:10000007-1775383200-1775392200@www.coyote-grill.com
SUMMARY:Easter Brunch
DESCRIPTION:Special Easter Brunch menu by our 4-time Silver Spoon Award-winning Executive Chef\, Michael Veres. Reservations required.
URL:https://www.coyote-grill.com/event/easter-brunch/
CATEGORIES:All Ages,Holiday
END:VEVENT
BEGIN:VEVENT
DTSTART;TZID=UTC:20260404T100000
DTEND;TZID=UTC:20260404T160000
DTSTAMP:20260420T095303
CREATED:20260301T184824Z
LAST-MODIFIED:20260329T185309Z
UID:10000006-1775296800-1775318400@www.coyote-grill.com
SUMMARY:Lynsey Stevens Fundraiser and Memorial Golf Tournament
DESCRIPTION:From 10am to 4pm on Saturday\, 4 April\, San Ignacio will be hosting the first annual Lynsey Stevens Memorial Golf Tournament. This tournament and fundraiser is being held to fund a 529 College Savings Plan for Lynsey’s 10-year-old daughter\, Marleigh.  \nEveryone is invited to join us and enter for our many exciting raffle prizes and the 50/50 contest. Please bring cash for ticket purchases. Prize drawings will occur around 2pm\, and you must be present to win. \nPlease note that all indoor seating may be reserved for the tournament golfers. Public seating will be located on our patio. \nDue to the number of expected attendees at this event\, our only food service before 4pm will be burgers and fries at $30/plate. Our regular drinks menus will be available. \nRegular dinner service will start after 4pm. Guests wishing to sit on the patio or in the bar are advised to make arrive no earlier than 6pm\, as it will take us time to put these areas back together after the event ends. \nAnyone wishing to contribute to Marleigh’s 529 plan without attending can do so here.
URL:https://www.coyote-grill.com/event/lynsey-stevens-fundraiser-and-memorial-golf-tournament/
CATEGORIES:All Ages
END:VEVENT
BEGIN:VEVENT
DTSTART;TZID=UTC:20260403T120000
DTEND;TZID=UTC:20260403T150000
DTSTAMP:20260420T095303
CREATED:20260329T185949Z
LAST-MODIFIED:20260329T190039Z
UID:10000278-1775217600-1775228400@www.coyote-grill.com
SUMMARY:Paint and Sip with Gracefully Painting
DESCRIPTION:Join Donnette Keys of Gracefully Painting to create a masterpiece of your very own! Every Friday features a different painting. This week’s subject is pictured below\, and you can use the Eventbrite link below to see upcoming subjects. Join us for a meal before or after the session\, and don’t forget to fuel your inner artist with a drink or two while you paint! Reservations are made through Eventbrite\, not the Coyote Grill. \n \n 
URL:https://www.coyote-grill.com/event/paint-and-sip-with-gracefully-painting-2/
CATEGORIES:All Ages,Fun
END:VEVENT
BEGIN:VEVENT
DTSTART;TZID=UTC:20260401T170000
DTEND;TZID=UTC:20260401T190000
DTSTAMP:20260420T095303
CREATED:20260302T184924Z
LAST-MODIFIED:20260302T185121Z
UID:10000013-1775062800-1775070000@www.coyote-grill.com
SUMMARY:Karen Cannon - Easy Listening Instrumental Guitar
DESCRIPTION:Join beloved local easy-listening instrumental guitarist Karen Cannon in our dining room every Wednesday evening. Reservations are strongly recommended.
URL:https://www.coyote-grill.com/event/karen-cannon-easy-listening-instrumental-guitar-in-the-dining-room/2026-04-01/
CATEGORIES:All Ages,Fun,Music
END:VEVENT
BEGIN:VEVENT
DTSTART;TZID=UTC:20260328T140000
DTEND;TZID=UTC:20260328T180000
DTSTAMP:20260420T095303
CREATED:20260309T192535Z
LAST-MODIFIED:20260309T192535Z
UID:10000272-1774706400-1774720800@www.coyote-grill.com
SUMMARY:Johnny Bencomo - Country and Cowboy Music
DESCRIPTION:18-string guitarist and cowboy singer straight out of the Old West. Patio\, first come\, first served – no reservations will be taken.
URL:https://www.coyote-grill.com/event/johnny-bencomo-country-and-cowboy-music/2026-03-28/
CATEGORIES:All Ages,Fun,Music
END:VEVENT
BEGIN:VEVENT
DTSTART;TZID=UTC:20260327T120000
DTEND;TZID=UTC:20260327T150000
DTSTAMP:20260420T095303
CREATED:20260321T005955Z
LAST-MODIFIED:20260321T005955Z
UID:10000277-1774612800-1774623600@www.coyote-grill.com
SUMMARY:Paint and Sip with Gracefully Painting
DESCRIPTION:Join Donnette Keys of Gracefully Painting to create a masterpiece of your very own! Every Friday features a different painting – please use the Eventbrite link below to see upcoming topics. Join us for a meal before or after the session\, and don’t forget to fuel your inner artist with a drink or two while you paint! Reservations are made through Eventbrite\, not the Coyote Grill.
URL:https://www.coyote-grill.com/event/paint-and-sip-with-gracefully-painting/
CATEGORIES:All Ages,Fun
END:VEVENT
BEGIN:VEVENT
DTSTART;TZID=UTC:20260325T170000
DTEND;TZID=UTC:20260325T190000
DTSTAMP:20260420T095303
CREATED:20260302T184924Z
LAST-MODIFIED:20260302T185121Z
UID:10000012-1774458000-1774465200@www.coyote-grill.com
SUMMARY:Karen Cannon - Easy Listening Instrumental Guitar
DESCRIPTION:Join beloved local easy-listening instrumental guitarist Karen Cannon in our dining room every Wednesday evening. Reservations are strongly recommended.
URL:https://www.coyote-grill.com/event/karen-cannon-easy-listening-instrumental-guitar-in-the-dining-room/2026-03-25/
CATEGORIES:All Ages,Fun,Music
END:VEVENT
BEGIN:VEVENT
DTSTART;TZID=UTC:20260323T150000
DTEND;TZID=UTC:20260323T180000
DTSTAMP:20260420T095303
CREATED:20260301T184000Z
LAST-MODIFIED:20260301T184000Z
UID:10000004-1774278000-1774288800@www.coyote-grill.com
SUMMARY:Angel Perez - Live Country and Rock Music
DESCRIPTION:Angel Perez brings boot-scootin’ country and rock music to our patio. No reservations accepted; patio seating is first-come\, first-served.
URL:https://www.coyote-grill.com/event/angel-perez-live-country-and-rock-music/2026-03-23/
CATEGORIES:All Ages,Fun,Music
END:VEVENT
BEGIN:VEVENT
DTSTART;TZID=UTC:20260321T180000
DTEND;TZID=UTC:20260321T200000
DTSTAMP:20260420T095303
CREATED:20260301T183718Z
LAST-MODIFIED:20260301T183718Z
UID:10000002-1774116000-1774123200@www.coyote-grill.com
SUMMARY:Fred the Astronomy Guy
DESCRIPTION:Join Fred the Astronomy Guy on our patio after 6pm! Fred will bring his telescope and expertise to share with guests. Indoor reservations are fine\, you can pop out to the patio any time!
URL:https://www.coyote-grill.com/event/fred-the-astronomy-guy/2026-03-21/
CATEGORIES:All Ages,Education,Fun
END:VEVENT
BEGIN:VEVENT
DTSTART;TZID=UTC:20260318T170000
DTEND;TZID=UTC:20260318T190000
DTSTAMP:20260420T095303
CREATED:20260302T184924Z
LAST-MODIFIED:20260302T185121Z
UID:10000011-1773853200-1773860400@www.coyote-grill.com
SUMMARY:Karen Cannon - Easy Listening Instrumental Guitar
DESCRIPTION:Join beloved local easy-listening instrumental guitarist Karen Cannon in our dining room every Wednesday evening. Reservations are strongly recommended.
URL:https://www.coyote-grill.com/event/karen-cannon-easy-listening-instrumental-guitar-in-the-dining-room/2026-03-18/
CATEGORIES:All Ages,Fun,Music
END:VEVENT
BEGIN:VEVENT
DTSTART;TZID=UTC:20260318T140000
DTEND;TZID=UTC:20260318T153000
DTSTAMP:20260420T095303
CREATED:20260303T191751Z
LAST-MODIFIED:20260303T191751Z
UID:10000270-1773842400-1773847800@www.coyote-grill.com
SUMMARY:Wine Lunch
DESCRIPTION:Lunch event featuring Astrolabe Pinot Gris (Marlborough\, New Zealand). Includes an in-depth presentation discussing the wine and the Marlborough region\, 9 oz. of the featured wine\, and a special lunch entrée. See flyer for details.
URL:https://www.coyote-grill.com/event/wine-lunch/
CATEGORIES:21+,Education,Fun,Wine
END:VEVENT
BEGIN:VEVENT
DTSTART;TZID=UTC:20260314T160000
DTEND;TZID=UTC:20260314T180000
DTSTAMP:20260420T095303
CREATED:20260301T184219Z
LAST-MODIFIED:20260301T184433Z
UID:10000005-1773504000-1773511200@www.coyote-grill.com
SUMMARY:Andy Hersey - Live Country-Rock and Eclectic Music
DESCRIPTION:Andy Hersey brings his fun mixture of Country-Rock\, silly drinking songs\, and love songs to the patio. No reservations accepted; patio seating is first-come\, first-served.
URL:https://www.coyote-grill.com/event/andy-hersey-live-country-rock-and-eclectic-music/
CATEGORIES:All Ages,Fun,Music
END:VEVENT
BEGIN:VEVENT
DTSTART;TZID=UTC:20260311T170000
DTEND;TZID=UTC:20260311T190000
DTSTAMP:20260420T095303
CREATED:20260302T184924Z
LAST-MODIFIED:20260302T185121Z
UID:10000010-1773248400-1773255600@www.coyote-grill.com
SUMMARY:Karen Cannon - Easy Listening Instrumental Guitar
DESCRIPTION:Join beloved local easy-listening instrumental guitarist Karen Cannon in our dining room every Wednesday evening. Reservations are strongly recommended.
URL:https://www.coyote-grill.com/event/karen-cannon-easy-listening-instrumental-guitar-in-the-dining-room/2026-03-11/
CATEGORIES:All Ages,Fun,Music
END:VEVENT
BEGIN:VEVENT
DTSTART;TZID=UTC:20260309T150000
DTEND;TZID=UTC:20260309T180000
DTSTAMP:20260420T095303
CREATED:20260301T184000Z
LAST-MODIFIED:20260301T184000Z
UID:10000003-1773068400-1773079200@www.coyote-grill.com
SUMMARY:Angel Perez - Live Country and Rock Music
DESCRIPTION:Angel Perez brings boot-scootin’ country and rock music to our patio. No reservations accepted; patio seating is first-come\, first-served.
URL:https://www.coyote-grill.com/event/angel-perez-live-country-and-rock-music/2026-03-09/
CATEGORIES:All Ages,Fun,Music
END:VEVENT
BEGIN:VEVENT
DTSTART;TZID=UTC:20260307T180000
DTEND;TZID=UTC:20260307T200000
DTSTAMP:20260420T095303
CREATED:20260301T183718Z
LAST-MODIFIED:20260301T183718Z
UID:10000001-1772906400-1772913600@www.coyote-grill.com
SUMMARY:Fred the Astronomy Guy
DESCRIPTION:Join Fred the Astronomy Guy on our patio after 6pm! Fred will bring his telescope and expertise to share with guests. Indoor reservations are fine\, you can pop out to the patio any time!
URL:https://www.coyote-grill.com/event/fred-the-astronomy-guy/2026-03-07/
CATEGORIES:All Ages,Education,Fun
END:VEVENT
BEGIN:VEVENT
DTSTART;TZID=UTC:20260304T170000
DTEND;TZID=UTC:20260304T190000
DTSTAMP:20260420T095303
CREATED:20260302T184924Z
LAST-MODIFIED:20260302T185121Z
UID:10000009-1772643600-1772650800@www.coyote-grill.com
SUMMARY:Karen Cannon - Easy Listening Instrumental Guitar
DESCRIPTION:Join beloved local easy-listening instrumental guitarist Karen Cannon in our dining room every Wednesday evening. Reservations are strongly recommended.
URL:https://www.coyote-grill.com/event/karen-cannon-easy-listening-instrumental-guitar-in-the-dining-room/2026-03-04/
CATEGORIES:All Ages,Fun,Music
END:VEVENT
END:VCALENDAR