BEGIN:VCALENDAR
VERSION:2.0
PRODID:-//Coyote Grill at San Ignacio - ECPv6.15.18//NONSGML v1.0//EN
CALSCALE:GREGORIAN
METHOD:PUBLISH
X-WR-CALNAME:Coyote Grill at San Ignacio
X-ORIGINAL-URL:https://www.coyote-grill.com
X-WR-CALDESC:Events for Coyote Grill at San Ignacio
REFRESH-INTERVAL;VALUE=DURATION:PT1H
X-Robots-Tag:noindex
X-PUBLISHED-TTL:PT1H
BEGIN:VTIMEZONE
TZID:UTC
BEGIN:STANDARD
TZOFFSETFROM:+0000
TZOFFSETTO:+0000
TZNAME:UTC
DTSTART:20290101T000000
END:STANDARD
END:VTIMEZONE
BEGIN:VEVENT
DTSTART;TZID=UTC:20300327T170000
DTEND;TZID=UTC:20300327T190000
DTSTAMP:20260422T221706
CREATED:20260302T184924Z
LAST-MODIFIED:20260302T185121Z
UID:10000221-1900861200-1900868400@www.coyote-grill.com
SUMMARY:Karen Cannon - Easy Listening Instrumental Guitar
DESCRIPTION:Join beloved local easy-listening instrumental guitarist Karen Cannon in our dining room every Wednesday evening. Reservations are strongly recommended.
URL:https://www.coyote-grill.com/event/karen-cannon-easy-listening-instrumental-guitar-in-the-dining-room/2030-03-27/
CATEGORIES:All Ages,Fun,Music
END:VEVENT
BEGIN:VEVENT
DTSTART;TZID=UTC:20300403T170000
DTEND;TZID=UTC:20300403T190000
DTSTAMP:20260422T221706
CREATED:20260302T184924Z
LAST-MODIFIED:20260302T185121Z
UID:10000222-1901466000-1901473200@www.coyote-grill.com
SUMMARY:Karen Cannon - Easy Listening Instrumental Guitar
DESCRIPTION:Join beloved local easy-listening instrumental guitarist Karen Cannon in our dining room every Wednesday evening. Reservations are strongly recommended.
URL:https://www.coyote-grill.com/event/karen-cannon-easy-listening-instrumental-guitar-in-the-dining-room/2030-04-03/
CATEGORIES:All Ages,Fun,Music
END:VEVENT
BEGIN:VEVENT
DTSTART;TZID=UTC:20300410T170000
DTEND;TZID=UTC:20300410T190000
DTSTAMP:20260422T221706
CREATED:20260302T184924Z
LAST-MODIFIED:20260302T185121Z
UID:10000223-1902070800-1902078000@www.coyote-grill.com
SUMMARY:Karen Cannon - Easy Listening Instrumental Guitar
DESCRIPTION:Join beloved local easy-listening instrumental guitarist Karen Cannon in our dining room every Wednesday evening. Reservations are strongly recommended.
URL:https://www.coyote-grill.com/event/karen-cannon-easy-listening-instrumental-guitar-in-the-dining-room/2030-04-10/
CATEGORIES:All Ages,Fun,Music
END:VEVENT
BEGIN:VEVENT
DTSTART;TZID=UTC:20300417T170000
DTEND;TZID=UTC:20300417T190000
DTSTAMP:20260422T221706
CREATED:20260302T184924Z
LAST-MODIFIED:20260302T185121Z
UID:10000224-1902675600-1902682800@www.coyote-grill.com
SUMMARY:Karen Cannon - Easy Listening Instrumental Guitar
DESCRIPTION:Join beloved local easy-listening instrumental guitarist Karen Cannon in our dining room every Wednesday evening. Reservations are strongly recommended.
URL:https://www.coyote-grill.com/event/karen-cannon-easy-listening-instrumental-guitar-in-the-dining-room/2030-04-17/
CATEGORIES:All Ages,Fun,Music
END:VEVENT
BEGIN:VEVENT
DTSTART;TZID=UTC:20300424T170000
DTEND;TZID=UTC:20300424T190000
DTSTAMP:20260422T221706
CREATED:20260302T184924Z
LAST-MODIFIED:20260302T185121Z
UID:10000225-1903280400-1903287600@www.coyote-grill.com
SUMMARY:Karen Cannon - Easy Listening Instrumental Guitar
DESCRIPTION:Join beloved local easy-listening instrumental guitarist Karen Cannon in our dining room every Wednesday evening. Reservations are strongly recommended.
URL:https://www.coyote-grill.com/event/karen-cannon-easy-listening-instrumental-guitar-in-the-dining-room/2030-04-24/
CATEGORIES:All Ages,Fun,Music
END:VEVENT
BEGIN:VEVENT
DTSTART;TZID=UTC:20300501T170000
DTEND;TZID=UTC:20300501T190000
DTSTAMP:20260422T221706
CREATED:20260302T184924Z
LAST-MODIFIED:20260302T185121Z
UID:10000226-1903885200-1903892400@www.coyote-grill.com
SUMMARY:Karen Cannon - Easy Listening Instrumental Guitar
DESCRIPTION:Join beloved local easy-listening instrumental guitarist Karen Cannon in our dining room every Wednesday evening. Reservations are strongly recommended.
URL:https://www.coyote-grill.com/event/karen-cannon-easy-listening-instrumental-guitar-in-the-dining-room/2030-05-01/
CATEGORIES:All Ages,Fun,Music
END:VEVENT
BEGIN:VEVENT
DTSTART;TZID=UTC:20300508T170000
DTEND;TZID=UTC:20300508T190000
DTSTAMP:20260422T221706
CREATED:20260302T184924Z
LAST-MODIFIED:20260302T185121Z
UID:10000227-1904490000-1904497200@www.coyote-grill.com
SUMMARY:Karen Cannon - Easy Listening Instrumental Guitar
DESCRIPTION:Join beloved local easy-listening instrumental guitarist Karen Cannon in our dining room every Wednesday evening. Reservations are strongly recommended.
URL:https://www.coyote-grill.com/event/karen-cannon-easy-listening-instrumental-guitar-in-the-dining-room/2030-05-08/
CATEGORIES:All Ages,Fun,Music
END:VEVENT
BEGIN:VEVENT
DTSTART;TZID=UTC:20300515T170000
DTEND;TZID=UTC:20300515T190000
DTSTAMP:20260422T221706
CREATED:20260302T184924Z
LAST-MODIFIED:20260302T185121Z
UID:10000228-1905094800-1905102000@www.coyote-grill.com
SUMMARY:Karen Cannon - Easy Listening Instrumental Guitar
DESCRIPTION:Join beloved local easy-listening instrumental guitarist Karen Cannon in our dining room every Wednesday evening. Reservations are strongly recommended.
URL:https://www.coyote-grill.com/event/karen-cannon-easy-listening-instrumental-guitar-in-the-dining-room/2030-05-15/
CATEGORIES:All Ages,Fun,Music
END:VEVENT
BEGIN:VEVENT
DTSTART;TZID=UTC:20300522T170000
DTEND;TZID=UTC:20300522T190000
DTSTAMP:20260422T221706
CREATED:20260302T184924Z
LAST-MODIFIED:20260302T185121Z
UID:10000229-1905699600-1905706800@www.coyote-grill.com
SUMMARY:Karen Cannon - Easy Listening Instrumental Guitar
DESCRIPTION:Join beloved local easy-listening instrumental guitarist Karen Cannon in our dining room every Wednesday evening. Reservations are strongly recommended.
URL:https://www.coyote-grill.com/event/karen-cannon-easy-listening-instrumental-guitar-in-the-dining-room/2030-05-22/
CATEGORIES:All Ages,Fun,Music
END:VEVENT
BEGIN:VEVENT
DTSTART;TZID=UTC:20300529T170000
DTEND;TZID=UTC:20300529T190000
DTSTAMP:20260422T221706
CREATED:20260302T184924Z
LAST-MODIFIED:20260302T185121Z
UID:10000230-1906304400-1906311600@www.coyote-grill.com
SUMMARY:Karen Cannon - Easy Listening Instrumental Guitar
DESCRIPTION:Join beloved local easy-listening instrumental guitarist Karen Cannon in our dining room every Wednesday evening. Reservations are strongly recommended.
URL:https://www.coyote-grill.com/event/karen-cannon-easy-listening-instrumental-guitar-in-the-dining-room/2030-05-29/
CATEGORIES:All Ages,Fun,Music
END:VEVENT
BEGIN:VEVENT
DTSTART;TZID=UTC:20300605T170000
DTEND;TZID=UTC:20300605T190000
DTSTAMP:20260422T221706
CREATED:20260302T184924Z
LAST-MODIFIED:20260302T185121Z
UID:10000231-1906909200-1906916400@www.coyote-grill.com
SUMMARY:Karen Cannon - Easy Listening Instrumental Guitar
DESCRIPTION:Join beloved local easy-listening instrumental guitarist Karen Cannon in our dining room every Wednesday evening. Reservations are strongly recommended.
URL:https://www.coyote-grill.com/event/karen-cannon-easy-listening-instrumental-guitar-in-the-dining-room/2030-06-05/
CATEGORIES:All Ages,Fun,Music
END:VEVENT
BEGIN:VEVENT
DTSTART;TZID=UTC:20300612T170000
DTEND;TZID=UTC:20300612T190000
DTSTAMP:20260422T221706
CREATED:20260302T184924Z
LAST-MODIFIED:20260302T185121Z
UID:10000232-1907514000-1907521200@www.coyote-grill.com
SUMMARY:Karen Cannon - Easy Listening Instrumental Guitar
DESCRIPTION:Join beloved local easy-listening instrumental guitarist Karen Cannon in our dining room every Wednesday evening. Reservations are strongly recommended.
URL:https://www.coyote-grill.com/event/karen-cannon-easy-listening-instrumental-guitar-in-the-dining-room/2030-06-12/
CATEGORIES:All Ages,Fun,Music
END:VEVENT
BEGIN:VEVENT
DTSTART;TZID=UTC:20300619T170000
DTEND;TZID=UTC:20300619T190000
DTSTAMP:20260422T221706
CREATED:20260302T184924Z
LAST-MODIFIED:20260302T185121Z
UID:10000233-1908118800-1908126000@www.coyote-grill.com
SUMMARY:Karen Cannon - Easy Listening Instrumental Guitar
DESCRIPTION:Join beloved local easy-listening instrumental guitarist Karen Cannon in our dining room every Wednesday evening. Reservations are strongly recommended.
URL:https://www.coyote-grill.com/event/karen-cannon-easy-listening-instrumental-guitar-in-the-dining-room/2030-06-19/
CATEGORIES:All Ages,Fun,Music
END:VEVENT
BEGIN:VEVENT
DTSTART;TZID=UTC:20300626T170000
DTEND;TZID=UTC:20300626T190000
DTSTAMP:20260422T221706
CREATED:20260302T184924Z
LAST-MODIFIED:20260302T185121Z
UID:10000234-1908723600-1908730800@www.coyote-grill.com
SUMMARY:Karen Cannon - Easy Listening Instrumental Guitar
DESCRIPTION:Join beloved local easy-listening instrumental guitarist Karen Cannon in our dining room every Wednesday evening. Reservations are strongly recommended.
URL:https://www.coyote-grill.com/event/karen-cannon-easy-listening-instrumental-guitar-in-the-dining-room/2030-06-26/
CATEGORIES:All Ages,Fun,Music
END:VEVENT
BEGIN:VEVENT
DTSTART;TZID=UTC:20300703T170000
DTEND;TZID=UTC:20300703T190000
DTSTAMP:20260422T221706
CREATED:20260302T184924Z
LAST-MODIFIED:20260302T185121Z
UID:10000235-1909328400-1909335600@www.coyote-grill.com
SUMMARY:Karen Cannon - Easy Listening Instrumental Guitar
DESCRIPTION:Join beloved local easy-listening instrumental guitarist Karen Cannon in our dining room every Wednesday evening. Reservations are strongly recommended.
URL:https://www.coyote-grill.com/event/karen-cannon-easy-listening-instrumental-guitar-in-the-dining-room/2030-07-03/
CATEGORIES:All Ages,Fun,Music
END:VEVENT
BEGIN:VEVENT
DTSTART;TZID=UTC:20300710T170000
DTEND;TZID=UTC:20300710T190000
DTSTAMP:20260422T221706
CREATED:20260302T184924Z
LAST-MODIFIED:20260302T185121Z
UID:10000236-1909933200-1909940400@www.coyote-grill.com
SUMMARY:Karen Cannon - Easy Listening Instrumental Guitar
DESCRIPTION:Join beloved local easy-listening instrumental guitarist Karen Cannon in our dining room every Wednesday evening. Reservations are strongly recommended.
URL:https://www.coyote-grill.com/event/karen-cannon-easy-listening-instrumental-guitar-in-the-dining-room/2030-07-10/
CATEGORIES:All Ages,Fun,Music
END:VEVENT
BEGIN:VEVENT
DTSTART;TZID=UTC:20300717T170000
DTEND;TZID=UTC:20300717T190000
DTSTAMP:20260422T221706
CREATED:20260302T184924Z
LAST-MODIFIED:20260302T185121Z
UID:10000237-1910538000-1910545200@www.coyote-grill.com
SUMMARY:Karen Cannon - Easy Listening Instrumental Guitar
DESCRIPTION:Join beloved local easy-listening instrumental guitarist Karen Cannon in our dining room every Wednesday evening. Reservations are strongly recommended.
URL:https://www.coyote-grill.com/event/karen-cannon-easy-listening-instrumental-guitar-in-the-dining-room/2030-07-17/
CATEGORIES:All Ages,Fun,Music
END:VEVENT
BEGIN:VEVENT
DTSTART;TZID=UTC:20300724T170000
DTEND;TZID=UTC:20300724T190000
DTSTAMP:20260422T221706
CREATED:20260302T184924Z
LAST-MODIFIED:20260302T185121Z
UID:10000238-1911142800-1911150000@www.coyote-grill.com
SUMMARY:Karen Cannon - Easy Listening Instrumental Guitar
DESCRIPTION:Join beloved local easy-listening instrumental guitarist Karen Cannon in our dining room every Wednesday evening. Reservations are strongly recommended.
URL:https://www.coyote-grill.com/event/karen-cannon-easy-listening-instrumental-guitar-in-the-dining-room/2030-07-24/
CATEGORIES:All Ages,Fun,Music
END:VEVENT
BEGIN:VEVENT
DTSTART;TZID=UTC:20300731T170000
DTEND;TZID=UTC:20300731T190000
DTSTAMP:20260422T221706
CREATED:20260302T184924Z
LAST-MODIFIED:20260302T185121Z
UID:10000239-1911747600-1911754800@www.coyote-grill.com
SUMMARY:Karen Cannon - Easy Listening Instrumental Guitar
DESCRIPTION:Join beloved local easy-listening instrumental guitarist Karen Cannon in our dining room every Wednesday evening. Reservations are strongly recommended.
URL:https://www.coyote-grill.com/event/karen-cannon-easy-listening-instrumental-guitar-in-the-dining-room/2030-07-31/
CATEGORIES:All Ages,Fun,Music
END:VEVENT
BEGIN:VEVENT
DTSTART;TZID=UTC:20300807T170000
DTEND;TZID=UTC:20300807T190000
DTSTAMP:20260422T221706
CREATED:20260302T184924Z
LAST-MODIFIED:20260302T185121Z
UID:10000240-1912352400-1912359600@www.coyote-grill.com
SUMMARY:Karen Cannon - Easy Listening Instrumental Guitar
DESCRIPTION:Join beloved local easy-listening instrumental guitarist Karen Cannon in our dining room every Wednesday evening. Reservations are strongly recommended.
URL:https://www.coyote-grill.com/event/karen-cannon-easy-listening-instrumental-guitar-in-the-dining-room/2030-08-07/
CATEGORIES:All Ages,Fun,Music
END:VEVENT
BEGIN:VEVENT
DTSTART;TZID=UTC:20300814T170000
DTEND;TZID=UTC:20300814T190000
DTSTAMP:20260422T221706
CREATED:20260302T184924Z
LAST-MODIFIED:20260302T185121Z
UID:10000241-1912957200-1912964400@www.coyote-grill.com
SUMMARY:Karen Cannon - Easy Listening Instrumental Guitar
DESCRIPTION:Join beloved local easy-listening instrumental guitarist Karen Cannon in our dining room every Wednesday evening. Reservations are strongly recommended.
URL:https://www.coyote-grill.com/event/karen-cannon-easy-listening-instrumental-guitar-in-the-dining-room/2030-08-14/
CATEGORIES:All Ages,Fun,Music
END:VEVENT
BEGIN:VEVENT
DTSTART;TZID=UTC:20300821T170000
DTEND;TZID=UTC:20300821T190000
DTSTAMP:20260422T221706
CREATED:20260302T184924Z
LAST-MODIFIED:20260302T185121Z
UID:10000242-1913562000-1913569200@www.coyote-grill.com
SUMMARY:Karen Cannon - Easy Listening Instrumental Guitar
DESCRIPTION:Join beloved local easy-listening instrumental guitarist Karen Cannon in our dining room every Wednesday evening. Reservations are strongly recommended.
URL:https://www.coyote-grill.com/event/karen-cannon-easy-listening-instrumental-guitar-in-the-dining-room/2030-08-21/
CATEGORIES:All Ages,Fun,Music
END:VEVENT
BEGIN:VEVENT
DTSTART;TZID=UTC:20300828T170000
DTEND;TZID=UTC:20300828T190000
DTSTAMP:20260422T221706
CREATED:20260302T184924Z
LAST-MODIFIED:20260302T185121Z
UID:10000243-1914166800-1914174000@www.coyote-grill.com
SUMMARY:Karen Cannon - Easy Listening Instrumental Guitar
DESCRIPTION:Join beloved local easy-listening instrumental guitarist Karen Cannon in our dining room every Wednesday evening. Reservations are strongly recommended.
URL:https://www.coyote-grill.com/event/karen-cannon-easy-listening-instrumental-guitar-in-the-dining-room/2030-08-28/
CATEGORIES:All Ages,Fun,Music
END:VEVENT
BEGIN:VEVENT
DTSTART;TZID=UTC:20300904T170000
DTEND;TZID=UTC:20300904T190000
DTSTAMP:20260422T221706
CREATED:20260302T184924Z
LAST-MODIFIED:20260302T185121Z
UID:10000244-1914771600-1914778800@www.coyote-grill.com
SUMMARY:Karen Cannon - Easy Listening Instrumental Guitar
DESCRIPTION:Join beloved local easy-listening instrumental guitarist Karen Cannon in our dining room every Wednesday evening. Reservations are strongly recommended.
URL:https://www.coyote-grill.com/event/karen-cannon-easy-listening-instrumental-guitar-in-the-dining-room/2030-09-04/
CATEGORIES:All Ages,Fun,Music
END:VEVENT
BEGIN:VEVENT
DTSTART;TZID=UTC:20300911T170000
DTEND;TZID=UTC:20300911T190000
DTSTAMP:20260422T221706
CREATED:20260302T184924Z
LAST-MODIFIED:20260302T185121Z
UID:10000245-1915376400-1915383600@www.coyote-grill.com
SUMMARY:Karen Cannon - Easy Listening Instrumental Guitar
DESCRIPTION:Join beloved local easy-listening instrumental guitarist Karen Cannon in our dining room every Wednesday evening. Reservations are strongly recommended.
URL:https://www.coyote-grill.com/event/karen-cannon-easy-listening-instrumental-guitar-in-the-dining-room/2030-09-11/
CATEGORIES:All Ages,Fun,Music
END:VEVENT
BEGIN:VEVENT
DTSTART;TZID=UTC:20300918T170000
DTEND;TZID=UTC:20300918T190000
DTSTAMP:20260422T221707
CREATED:20260302T184924Z
LAST-MODIFIED:20260302T185121Z
UID:10000246-1915981200-1915988400@www.coyote-grill.com
SUMMARY:Karen Cannon - Easy Listening Instrumental Guitar
DESCRIPTION:Join beloved local easy-listening instrumental guitarist Karen Cannon in our dining room every Wednesday evening. Reservations are strongly recommended.
URL:https://www.coyote-grill.com/event/karen-cannon-easy-listening-instrumental-guitar-in-the-dining-room/2030-09-18/
CATEGORIES:All Ages,Fun,Music
END:VEVENT
BEGIN:VEVENT
DTSTART;TZID=UTC:20300925T170000
DTEND;TZID=UTC:20300925T190000
DTSTAMP:20260422T221707
CREATED:20260302T184924Z
LAST-MODIFIED:20260302T185121Z
UID:10000247-1916586000-1916593200@www.coyote-grill.com
SUMMARY:Karen Cannon - Easy Listening Instrumental Guitar
DESCRIPTION:Join beloved local easy-listening instrumental guitarist Karen Cannon in our dining room every Wednesday evening. Reservations are strongly recommended.
URL:https://www.coyote-grill.com/event/karen-cannon-easy-listening-instrumental-guitar-in-the-dining-room/2030-09-25/
CATEGORIES:All Ages,Fun,Music
END:VEVENT
BEGIN:VEVENT
DTSTART;TZID=UTC:20301002T170000
DTEND;TZID=UTC:20301002T190000
DTSTAMP:20260422T221707
CREATED:20260302T184924Z
LAST-MODIFIED:20260302T185121Z
UID:10000248-1917190800-1917198000@www.coyote-grill.com
SUMMARY:Karen Cannon - Easy Listening Instrumental Guitar
DESCRIPTION:Join beloved local easy-listening instrumental guitarist Karen Cannon in our dining room every Wednesday evening. Reservations are strongly recommended.
URL:https://www.coyote-grill.com/event/karen-cannon-easy-listening-instrumental-guitar-in-the-dining-room/2030-10-02/
CATEGORIES:All Ages,Fun,Music
END:VEVENT
BEGIN:VEVENT
DTSTART;TZID=UTC:20301009T170000
DTEND;TZID=UTC:20301009T190000
DTSTAMP:20260422T221707
CREATED:20260302T184924Z
LAST-MODIFIED:20260302T185121Z
UID:10000249-1917795600-1917802800@www.coyote-grill.com
SUMMARY:Karen Cannon - Easy Listening Instrumental Guitar
DESCRIPTION:Join beloved local easy-listening instrumental guitarist Karen Cannon in our dining room every Wednesday evening. Reservations are strongly recommended.
URL:https://www.coyote-grill.com/event/karen-cannon-easy-listening-instrumental-guitar-in-the-dining-room/2030-10-09/
CATEGORIES:All Ages,Fun,Music
END:VEVENT
BEGIN:VEVENT
DTSTART;TZID=UTC:20301016T170000
DTEND;TZID=UTC:20301016T190000
DTSTAMP:20260422T221707
CREATED:20260302T184924Z
LAST-MODIFIED:20260302T185121Z
UID:10000250-1918400400-1918407600@www.coyote-grill.com
SUMMARY:Karen Cannon - Easy Listening Instrumental Guitar
DESCRIPTION:Join beloved local easy-listening instrumental guitarist Karen Cannon in our dining room every Wednesday evening. Reservations are strongly recommended.
URL:https://www.coyote-grill.com/event/karen-cannon-easy-listening-instrumental-guitar-in-the-dining-room/2030-10-16/
CATEGORIES:All Ages,Fun,Music
END:VEVENT
END:VCALENDAR