BEGIN:VCALENDAR
VERSION:2.0
PRODID:-//Coyote Grill at San Ignacio - ECPv6.15.18//NONSGML v1.0//EN
CALSCALE:GREGORIAN
METHOD:PUBLISH
X-ORIGINAL-URL:https://www.coyote-grill.com
X-WR-CALDESC:Events for Coyote Grill at San Ignacio
REFRESH-INTERVAL;VALUE=DURATION:PT1H
X-Robots-Tag:noindex
X-PUBLISHED-TTL:PT1H
BEGIN:VTIMEZONE
TZID:UTC
BEGIN:STANDARD
TZOFFSETFROM:+0000
TZOFFSETTO:+0000
TZNAME:UTC
DTSTART:20280101T000000
END:STANDARD
END:VTIMEZONE
BEGIN:VEVENT
DTSTART;TZID=UTC:20290801T170000
DTEND;TZID=UTC:20290801T190000
DTSTAMP:20260420T032519
CREATED:20260302T184924Z
LAST-MODIFIED:20260302T185121Z
UID:10000187-1880298000-1880305200@www.coyote-grill.com
SUMMARY:Karen Cannon - Easy Listening Instrumental Guitar
DESCRIPTION:Join beloved local easy-listening instrumental guitarist Karen Cannon in our dining room every Wednesday evening. Reservations are strongly recommended.
URL:https://www.coyote-grill.com/event/karen-cannon-easy-listening-instrumental-guitar-in-the-dining-room/2029-08-01/
CATEGORIES:All Ages,Fun,Music
END:VEVENT
BEGIN:VEVENT
DTSTART;TZID=UTC:20290808T170000
DTEND;TZID=UTC:20290808T190000
DTSTAMP:20260420T032519
CREATED:20260302T184924Z
LAST-MODIFIED:20260302T185121Z
UID:10000188-1880902800-1880910000@www.coyote-grill.com
SUMMARY:Karen Cannon - Easy Listening Instrumental Guitar
DESCRIPTION:Join beloved local easy-listening instrumental guitarist Karen Cannon in our dining room every Wednesday evening. Reservations are strongly recommended.
URL:https://www.coyote-grill.com/event/karen-cannon-easy-listening-instrumental-guitar-in-the-dining-room/2029-08-08/
CATEGORIES:All Ages,Fun,Music
END:VEVENT
BEGIN:VEVENT
DTSTART;TZID=UTC:20290815T170000
DTEND;TZID=UTC:20290815T190000
DTSTAMP:20260420T032519
CREATED:20260302T184924Z
LAST-MODIFIED:20260302T185121Z
UID:10000189-1881507600-1881514800@www.coyote-grill.com
SUMMARY:Karen Cannon - Easy Listening Instrumental Guitar
DESCRIPTION:Join beloved local easy-listening instrumental guitarist Karen Cannon in our dining room every Wednesday evening. Reservations are strongly recommended.
URL:https://www.coyote-grill.com/event/karen-cannon-easy-listening-instrumental-guitar-in-the-dining-room/2029-08-15/
CATEGORIES:All Ages,Fun,Music
END:VEVENT
BEGIN:VEVENT
DTSTART;TZID=UTC:20290822T170000
DTEND;TZID=UTC:20290822T190000
DTSTAMP:20260420T032519
CREATED:20260302T184924Z
LAST-MODIFIED:20260302T185121Z
UID:10000190-1882112400-1882119600@www.coyote-grill.com
SUMMARY:Karen Cannon - Easy Listening Instrumental Guitar
DESCRIPTION:Join beloved local easy-listening instrumental guitarist Karen Cannon in our dining room every Wednesday evening. Reservations are strongly recommended.
URL:https://www.coyote-grill.com/event/karen-cannon-easy-listening-instrumental-guitar-in-the-dining-room/2029-08-22/
CATEGORIES:All Ages,Fun,Music
END:VEVENT
BEGIN:VEVENT
DTSTART;TZID=UTC:20290829T170000
DTEND;TZID=UTC:20290829T190000
DTSTAMP:20260420T032519
CREATED:20260302T184924Z
LAST-MODIFIED:20260302T185121Z
UID:10000191-1882717200-1882724400@www.coyote-grill.com
SUMMARY:Karen Cannon - Easy Listening Instrumental Guitar
DESCRIPTION:Join beloved local easy-listening instrumental guitarist Karen Cannon in our dining room every Wednesday evening. Reservations are strongly recommended.
URL:https://www.coyote-grill.com/event/karen-cannon-easy-listening-instrumental-guitar-in-the-dining-room/2029-08-29/
CATEGORIES:All Ages,Fun,Music
END:VEVENT
BEGIN:VEVENT
DTSTART;TZID=UTC:20290905T170000
DTEND;TZID=UTC:20290905T190000
DTSTAMP:20260420T032520
CREATED:20260302T184924Z
LAST-MODIFIED:20260302T185121Z
UID:10000192-1883322000-1883329200@www.coyote-grill.com
SUMMARY:Karen Cannon - Easy Listening Instrumental Guitar
DESCRIPTION:Join beloved local easy-listening instrumental guitarist Karen Cannon in our dining room every Wednesday evening. Reservations are strongly recommended.
URL:https://www.coyote-grill.com/event/karen-cannon-easy-listening-instrumental-guitar-in-the-dining-room/2029-09-05/
CATEGORIES:All Ages,Fun,Music
END:VEVENT
BEGIN:VEVENT
DTSTART;TZID=UTC:20290912T170000
DTEND;TZID=UTC:20290912T190000
DTSTAMP:20260420T032520
CREATED:20260302T184924Z
LAST-MODIFIED:20260302T185121Z
UID:10000193-1883926800-1883934000@www.coyote-grill.com
SUMMARY:Karen Cannon - Easy Listening Instrumental Guitar
DESCRIPTION:Join beloved local easy-listening instrumental guitarist Karen Cannon in our dining room every Wednesday evening. Reservations are strongly recommended.
URL:https://www.coyote-grill.com/event/karen-cannon-easy-listening-instrumental-guitar-in-the-dining-room/2029-09-12/
CATEGORIES:All Ages,Fun,Music
END:VEVENT
BEGIN:VEVENT
DTSTART;TZID=UTC:20290919T170000
DTEND;TZID=UTC:20290919T190000
DTSTAMP:20260420T032520
CREATED:20260302T184924Z
LAST-MODIFIED:20260302T185121Z
UID:10000194-1884531600-1884538800@www.coyote-grill.com
SUMMARY:Karen Cannon - Easy Listening Instrumental Guitar
DESCRIPTION:Join beloved local easy-listening instrumental guitarist Karen Cannon in our dining room every Wednesday evening. Reservations are strongly recommended.
URL:https://www.coyote-grill.com/event/karen-cannon-easy-listening-instrumental-guitar-in-the-dining-room/2029-09-19/
CATEGORIES:All Ages,Fun,Music
END:VEVENT
BEGIN:VEVENT
DTSTART;TZID=UTC:20290926T170000
DTEND;TZID=UTC:20290926T190000
DTSTAMP:20260420T032520
CREATED:20260302T184924Z
LAST-MODIFIED:20260302T185121Z
UID:10000195-1885136400-1885143600@www.coyote-grill.com
SUMMARY:Karen Cannon - Easy Listening Instrumental Guitar
DESCRIPTION:Join beloved local easy-listening instrumental guitarist Karen Cannon in our dining room every Wednesday evening. Reservations are strongly recommended.
URL:https://www.coyote-grill.com/event/karen-cannon-easy-listening-instrumental-guitar-in-the-dining-room/2029-09-26/
CATEGORIES:All Ages,Fun,Music
END:VEVENT
BEGIN:VEVENT
DTSTART;TZID=UTC:20291003T170000
DTEND;TZID=UTC:20291003T190000
DTSTAMP:20260420T032520
CREATED:20260302T184924Z
LAST-MODIFIED:20260302T185121Z
UID:10000196-1885741200-1885748400@www.coyote-grill.com
SUMMARY:Karen Cannon - Easy Listening Instrumental Guitar
DESCRIPTION:Join beloved local easy-listening instrumental guitarist Karen Cannon in our dining room every Wednesday evening. Reservations are strongly recommended.
URL:https://www.coyote-grill.com/event/karen-cannon-easy-listening-instrumental-guitar-in-the-dining-room/2029-10-03/
CATEGORIES:All Ages,Fun,Music
END:VEVENT
BEGIN:VEVENT
DTSTART;TZID=UTC:20291010T170000
DTEND;TZID=UTC:20291010T190000
DTSTAMP:20260420T032520
CREATED:20260302T184924Z
LAST-MODIFIED:20260302T185121Z
UID:10000197-1886346000-1886353200@www.coyote-grill.com
SUMMARY:Karen Cannon - Easy Listening Instrumental Guitar
DESCRIPTION:Join beloved local easy-listening instrumental guitarist Karen Cannon in our dining room every Wednesday evening. Reservations are strongly recommended.
URL:https://www.coyote-grill.com/event/karen-cannon-easy-listening-instrumental-guitar-in-the-dining-room/2029-10-10/
CATEGORIES:All Ages,Fun,Music
END:VEVENT
BEGIN:VEVENT
DTSTART;TZID=UTC:20291017T170000
DTEND;TZID=UTC:20291017T190000
DTSTAMP:20260420T032520
CREATED:20260302T184924Z
LAST-MODIFIED:20260302T185121Z
UID:10000198-1886950800-1886958000@www.coyote-grill.com
SUMMARY:Karen Cannon - Easy Listening Instrumental Guitar
DESCRIPTION:Join beloved local easy-listening instrumental guitarist Karen Cannon in our dining room every Wednesday evening. Reservations are strongly recommended.
URL:https://www.coyote-grill.com/event/karen-cannon-easy-listening-instrumental-guitar-in-the-dining-room/2029-10-17/
CATEGORIES:All Ages,Fun,Music
END:VEVENT
BEGIN:VEVENT
DTSTART;TZID=UTC:20291024T170000
DTEND;TZID=UTC:20291024T190000
DTSTAMP:20260420T032520
CREATED:20260302T184924Z
LAST-MODIFIED:20260302T185121Z
UID:10000199-1887555600-1887562800@www.coyote-grill.com
SUMMARY:Karen Cannon - Easy Listening Instrumental Guitar
DESCRIPTION:Join beloved local easy-listening instrumental guitarist Karen Cannon in our dining room every Wednesday evening. Reservations are strongly recommended.
URL:https://www.coyote-grill.com/event/karen-cannon-easy-listening-instrumental-guitar-in-the-dining-room/2029-10-24/
CATEGORIES:All Ages,Fun,Music
END:VEVENT
BEGIN:VEVENT
DTSTART;TZID=UTC:20291031T170000
DTEND;TZID=UTC:20291031T190000
DTSTAMP:20260420T032520
CREATED:20260302T184924Z
LAST-MODIFIED:20260302T185121Z
UID:10000200-1888160400-1888167600@www.coyote-grill.com
SUMMARY:Karen Cannon - Easy Listening Instrumental Guitar
DESCRIPTION:Join beloved local easy-listening instrumental guitarist Karen Cannon in our dining room every Wednesday evening. Reservations are strongly recommended.
URL:https://www.coyote-grill.com/event/karen-cannon-easy-listening-instrumental-guitar-in-the-dining-room/2029-10-31/
CATEGORIES:All Ages,Fun,Music
END:VEVENT
BEGIN:VEVENT
DTSTART;TZID=UTC:20291107T170000
DTEND;TZID=UTC:20291107T190000
DTSTAMP:20260420T032520
CREATED:20260302T184924Z
LAST-MODIFIED:20260302T185121Z
UID:10000201-1888765200-1888772400@www.coyote-grill.com
SUMMARY:Karen Cannon - Easy Listening Instrumental Guitar
DESCRIPTION:Join beloved local easy-listening instrumental guitarist Karen Cannon in our dining room every Wednesday evening. Reservations are strongly recommended.
URL:https://www.coyote-grill.com/event/karen-cannon-easy-listening-instrumental-guitar-in-the-dining-room/2029-11-07/
CATEGORIES:All Ages,Fun,Music
END:VEVENT
BEGIN:VEVENT
DTSTART;TZID=UTC:20291114T170000
DTEND;TZID=UTC:20291114T190000
DTSTAMP:20260420T032520
CREATED:20260302T184924Z
LAST-MODIFIED:20260302T185121Z
UID:10000202-1889370000-1889377200@www.coyote-grill.com
SUMMARY:Karen Cannon - Easy Listening Instrumental Guitar
DESCRIPTION:Join beloved local easy-listening instrumental guitarist Karen Cannon in our dining room every Wednesday evening. Reservations are strongly recommended.
URL:https://www.coyote-grill.com/event/karen-cannon-easy-listening-instrumental-guitar-in-the-dining-room/2029-11-14/
CATEGORIES:All Ages,Fun,Music
END:VEVENT
BEGIN:VEVENT
DTSTART;TZID=UTC:20291121T170000
DTEND;TZID=UTC:20291121T190000
DTSTAMP:20260420T032520
CREATED:20260302T184924Z
LAST-MODIFIED:20260302T185121Z
UID:10000203-1889974800-1889982000@www.coyote-grill.com
SUMMARY:Karen Cannon - Easy Listening Instrumental Guitar
DESCRIPTION:Join beloved local easy-listening instrumental guitarist Karen Cannon in our dining room every Wednesday evening. Reservations are strongly recommended.
URL:https://www.coyote-grill.com/event/karen-cannon-easy-listening-instrumental-guitar-in-the-dining-room/2029-11-21/
CATEGORIES:All Ages,Fun,Music
END:VEVENT
BEGIN:VEVENT
DTSTART;TZID=UTC:20291128T170000
DTEND;TZID=UTC:20291128T190000
DTSTAMP:20260420T032520
CREATED:20260302T184924Z
LAST-MODIFIED:20260302T185121Z
UID:10000204-1890579600-1890586800@www.coyote-grill.com
SUMMARY:Karen Cannon - Easy Listening Instrumental Guitar
DESCRIPTION:Join beloved local easy-listening instrumental guitarist Karen Cannon in our dining room every Wednesday evening. Reservations are strongly recommended.
URL:https://www.coyote-grill.com/event/karen-cannon-easy-listening-instrumental-guitar-in-the-dining-room/2029-11-28/
CATEGORIES:All Ages,Fun,Music
END:VEVENT
BEGIN:VEVENT
DTSTART;TZID=UTC:20291205T170000
DTEND;TZID=UTC:20291205T190000
DTSTAMP:20260420T032520
CREATED:20260302T184924Z
LAST-MODIFIED:20260302T185121Z
UID:10000205-1891184400-1891191600@www.coyote-grill.com
SUMMARY:Karen Cannon - Easy Listening Instrumental Guitar
DESCRIPTION:Join beloved local easy-listening instrumental guitarist Karen Cannon in our dining room every Wednesday evening. Reservations are strongly recommended.
URL:https://www.coyote-grill.com/event/karen-cannon-easy-listening-instrumental-guitar-in-the-dining-room/2029-12-05/
CATEGORIES:All Ages,Fun,Music
END:VEVENT
BEGIN:VEVENT
DTSTART;TZID=UTC:20291212T170000
DTEND;TZID=UTC:20291212T190000
DTSTAMP:20260420T032520
CREATED:20260302T184924Z
LAST-MODIFIED:20260302T185121Z
UID:10000206-1891789200-1891796400@www.coyote-grill.com
SUMMARY:Karen Cannon - Easy Listening Instrumental Guitar
DESCRIPTION:Join beloved local easy-listening instrumental guitarist Karen Cannon in our dining room every Wednesday evening. Reservations are strongly recommended.
URL:https://www.coyote-grill.com/event/karen-cannon-easy-listening-instrumental-guitar-in-the-dining-room/2029-12-12/
CATEGORIES:All Ages,Fun,Music
END:VEVENT
BEGIN:VEVENT
DTSTART;TZID=UTC:20291219T170000
DTEND;TZID=UTC:20291219T190000
DTSTAMP:20260420T032520
CREATED:20260302T184924Z
LAST-MODIFIED:20260302T185121Z
UID:10000207-1892394000-1892401200@www.coyote-grill.com
SUMMARY:Karen Cannon - Easy Listening Instrumental Guitar
DESCRIPTION:Join beloved local easy-listening instrumental guitarist Karen Cannon in our dining room every Wednesday evening. Reservations are strongly recommended.
URL:https://www.coyote-grill.com/event/karen-cannon-easy-listening-instrumental-guitar-in-the-dining-room/2029-12-19/
CATEGORIES:All Ages,Fun,Music
END:VEVENT
BEGIN:VEVENT
DTSTART;TZID=UTC:20291226T170000
DTEND;TZID=UTC:20291226T190000
DTSTAMP:20260420T032520
CREATED:20260302T184924Z
LAST-MODIFIED:20260302T185121Z
UID:10000208-1892998800-1893006000@www.coyote-grill.com
SUMMARY:Karen Cannon - Easy Listening Instrumental Guitar
DESCRIPTION:Join beloved local easy-listening instrumental guitarist Karen Cannon in our dining room every Wednesday evening. Reservations are strongly recommended.
URL:https://www.coyote-grill.com/event/karen-cannon-easy-listening-instrumental-guitar-in-the-dining-room/2029-12-26/
CATEGORIES:All Ages,Fun,Music
END:VEVENT
BEGIN:VEVENT
DTSTART;TZID=UTC:20300102T170000
DTEND;TZID=UTC:20300102T190000
DTSTAMP:20260420T032520
CREATED:20260302T184924Z
LAST-MODIFIED:20260302T185121Z
UID:10000209-1893603600-1893610800@www.coyote-grill.com
SUMMARY:Karen Cannon - Easy Listening Instrumental Guitar
DESCRIPTION:Join beloved local easy-listening instrumental guitarist Karen Cannon in our dining room every Wednesday evening. Reservations are strongly recommended.
URL:https://www.coyote-grill.com/event/karen-cannon-easy-listening-instrumental-guitar-in-the-dining-room/2030-01-02/
CATEGORIES:All Ages,Fun,Music
END:VEVENT
BEGIN:VEVENT
DTSTART;TZID=UTC:20300109T170000
DTEND;TZID=UTC:20300109T190000
DTSTAMP:20260420T032520
CREATED:20260302T184924Z
LAST-MODIFIED:20260302T185121Z
UID:10000210-1894208400-1894215600@www.coyote-grill.com
SUMMARY:Karen Cannon - Easy Listening Instrumental Guitar
DESCRIPTION:Join beloved local easy-listening instrumental guitarist Karen Cannon in our dining room every Wednesday evening. Reservations are strongly recommended.
URL:https://www.coyote-grill.com/event/karen-cannon-easy-listening-instrumental-guitar-in-the-dining-room/2030-01-09/
CATEGORIES:All Ages,Fun,Music
END:VEVENT
BEGIN:VEVENT
DTSTART;TZID=UTC:20300116T170000
DTEND;TZID=UTC:20300116T190000
DTSTAMP:20260420T032520
CREATED:20260302T184924Z
LAST-MODIFIED:20260302T185121Z
UID:10000211-1894813200-1894820400@www.coyote-grill.com
SUMMARY:Karen Cannon - Easy Listening Instrumental Guitar
DESCRIPTION:Join beloved local easy-listening instrumental guitarist Karen Cannon in our dining room every Wednesday evening. Reservations are strongly recommended.
URL:https://www.coyote-grill.com/event/karen-cannon-easy-listening-instrumental-guitar-in-the-dining-room/2030-01-16/
CATEGORIES:All Ages,Fun,Music
END:VEVENT
BEGIN:VEVENT
DTSTART;TZID=UTC:20300123T170000
DTEND;TZID=UTC:20300123T190000
DTSTAMP:20260420T032520
CREATED:20260302T184924Z
LAST-MODIFIED:20260302T185121Z
UID:10000212-1895418000-1895425200@www.coyote-grill.com
SUMMARY:Karen Cannon - Easy Listening Instrumental Guitar
DESCRIPTION:Join beloved local easy-listening instrumental guitarist Karen Cannon in our dining room every Wednesday evening. Reservations are strongly recommended.
URL:https://www.coyote-grill.com/event/karen-cannon-easy-listening-instrumental-guitar-in-the-dining-room/2030-01-23/
CATEGORIES:All Ages,Fun,Music
END:VEVENT
BEGIN:VEVENT
DTSTART;TZID=UTC:20300130T170000
DTEND;TZID=UTC:20300130T190000
DTSTAMP:20260420T032520
CREATED:20260302T184924Z
LAST-MODIFIED:20260302T185121Z
UID:10000213-1896022800-1896030000@www.coyote-grill.com
SUMMARY:Karen Cannon - Easy Listening Instrumental Guitar
DESCRIPTION:Join beloved local easy-listening instrumental guitarist Karen Cannon in our dining room every Wednesday evening. Reservations are strongly recommended.
URL:https://www.coyote-grill.com/event/karen-cannon-easy-listening-instrumental-guitar-in-the-dining-room/2030-01-30/
CATEGORIES:All Ages,Fun,Music
END:VEVENT
BEGIN:VEVENT
DTSTART;TZID=UTC:20300206T170000
DTEND;TZID=UTC:20300206T190000
DTSTAMP:20260420T032520
CREATED:20260302T184924Z
LAST-MODIFIED:20260302T185121Z
UID:10000214-1896627600-1896634800@www.coyote-grill.com
SUMMARY:Karen Cannon - Easy Listening Instrumental Guitar
DESCRIPTION:Join beloved local easy-listening instrumental guitarist Karen Cannon in our dining room every Wednesday evening. Reservations are strongly recommended.
URL:https://www.coyote-grill.com/event/karen-cannon-easy-listening-instrumental-guitar-in-the-dining-room/2030-02-06/
CATEGORIES:All Ages,Fun,Music
END:VEVENT
BEGIN:VEVENT
DTSTART;TZID=UTC:20300213T170000
DTEND;TZID=UTC:20300213T190000
DTSTAMP:20260420T032520
CREATED:20260302T184924Z
LAST-MODIFIED:20260302T185121Z
UID:10000215-1897232400-1897239600@www.coyote-grill.com
SUMMARY:Karen Cannon - Easy Listening Instrumental Guitar
DESCRIPTION:Join beloved local easy-listening instrumental guitarist Karen Cannon in our dining room every Wednesday evening. Reservations are strongly recommended.
URL:https://www.coyote-grill.com/event/karen-cannon-easy-listening-instrumental-guitar-in-the-dining-room/2030-02-13/
CATEGORIES:All Ages,Fun,Music
END:VEVENT
BEGIN:VEVENT
DTSTART;TZID=UTC:20300220T170000
DTEND;TZID=UTC:20300220T190000
DTSTAMP:20260420T032520
CREATED:20260302T184924Z
LAST-MODIFIED:20260302T185121Z
UID:10000216-1897837200-1897844400@www.coyote-grill.com
SUMMARY:Karen Cannon - Easy Listening Instrumental Guitar
DESCRIPTION:Join beloved local easy-listening instrumental guitarist Karen Cannon in our dining room every Wednesday evening. Reservations are strongly recommended.
URL:https://www.coyote-grill.com/event/karen-cannon-easy-listening-instrumental-guitar-in-the-dining-room/2030-02-20/
CATEGORIES:All Ages,Fun,Music
END:VEVENT
END:VCALENDAR