BEGIN:VCALENDAR
VERSION:2.0
PRODID:-//Coyote Grill at San Ignacio - ECPv6.15.18//NONSGML v1.0//EN
CALSCALE:GREGORIAN
METHOD:PUBLISH
X-ORIGINAL-URL:https://www.coyote-grill.com
X-WR-CALDESC:Events for Coyote Grill at San Ignacio
REFRESH-INTERVAL;VALUE=DURATION:PT1H
X-Robots-Tag:noindex
X-PUBLISHED-TTL:PT1H
BEGIN:VTIMEZONE
TZID:UTC
BEGIN:STANDARD
TZOFFSETFROM:+0000
TZOFFSETTO:+0000
TZNAME:UTC
DTSTART:20250101T000000
END:STANDARD
END:VTIMEZONE
BEGIN:VEVENT
DTSTART;TZID=UTC:20260510T100000
DTEND;TZID=UTC:20260510T123000
DTSTAMP:20260423T114052
CREATED:20260423T001707Z
LAST-MODIFIED:20260423T001947Z
UID:10000546-1778407200-1778416200@www.coyote-grill.com
SUMMARY:Mother's Day Brunch
DESCRIPTION:Celebrate Mom with our delicious Mother’s Day Brunch! Join us from 10:00-12:30 (last seating) and enjoy Chef Michael’s breakfast selection (see menu). $30/person\, Reservations required.
URL:https://www.coyote-grill.com/event/mothers-day-brunch/
CATEGORIES:All Ages,Holiday
END:VEVENT
BEGIN:VEVENT
DTSTART;TZID=UTC:20260510T150000
DTEND;TZID=UTC:20260510T180000
DTSTAMP:20260423T114052
CREATED:20260423T001923Z
LAST-MODIFIED:20260423T001923Z
UID:10000547-1778425200-1778436000@www.coyote-grill.com
SUMMARY:Mother's Day Dinner
DESCRIPTION:Mom won’t want to miss Chef Michael’s mouth-watering dinner selections this Mother’s Day! Join us from 3pm-6pm (last seating) for this year’s special menu. Reservations required.
URL:https://www.coyote-grill.com/event/mothers-day-dinner/
CATEGORIES:All Ages,Fun,Holiday
END:VEVENT
END:VCALENDAR