BEGIN:VCALENDAR
VERSION:2.0
PRODID:-//Coyote Grill at San Ignacio - ECPv6.15.18//NONSGML v1.0//EN
CALSCALE:GREGORIAN
METHOD:PUBLISH
X-ORIGINAL-URL:https://www.coyote-grill.com
X-WR-CALDESC:Events for Coyote Grill at San Ignacio
REFRESH-INTERVAL;VALUE=DURATION:PT1H
X-Robots-Tag:noindex
X-PUBLISHED-TTL:PT1H
BEGIN:VTIMEZONE
TZID:UTC
BEGIN:STANDARD
TZOFFSETFROM:+0000
TZOFFSETTO:+0000
TZNAME:UTC
DTSTART:20260101T000000
END:STANDARD
END:VTIMEZONE
BEGIN:VEVENT
DTSTART;TZID=UTC:20270609T170000
DTEND;TZID=UTC:20270609T190000
DTSTAMP:20260419T165213
CREATED:20260302T184924Z
LAST-MODIFIED:20260302T185121Z
UID:10000075-1812560400-1812567600@www.coyote-grill.com
SUMMARY:Karen Cannon - Easy Listening Instrumental Guitar
DESCRIPTION:Join beloved local easy-listening instrumental guitarist Karen Cannon in our dining room every Wednesday evening. Reservations are strongly recommended.
URL:https://www.coyote-grill.com/event/karen-cannon-easy-listening-instrumental-guitar-in-the-dining-room/2027-06-09/
CATEGORIES:All Ages,Fun,Music
END:VEVENT
BEGIN:VEVENT
DTSTART;TZID=UTC:20270611T120000
DTEND;TZID=UTC:20270611T150000
DTSTAMP:20260419T165213
CREATED:20260329T204653Z
LAST-MODIFIED:20260329T204653Z
UID:10000340-1812715200-1812726000@www.coyote-grill.com
SUMMARY:Paint and Sip with Gracefully Painting
DESCRIPTION:Join Donnette Keys of Gracefully Painting to create a masterpiece of your very own! Every Friday features a different painting – please use the Eventbrite link below to see upcoming topics. Join us for a meal before or after the session\, and don’t forget to fuel your inner artist with a drink or two while you paint! Reservations are made through Eventbrite\, not the Coyote Grill.
URL:https://www.coyote-grill.com/event/paint-and-sip-with-gracefully-painting-3/2027-06-11/
CATEGORIES:All Ages,Fun
END:VEVENT
BEGIN:VEVENT
DTSTART;TZID=UTC:20270616T170000
DTEND;TZID=UTC:20270616T190000
DTSTAMP:20260419T165213
CREATED:20260302T184924Z
LAST-MODIFIED:20260302T185121Z
UID:10000076-1813165200-1813172400@www.coyote-grill.com
SUMMARY:Karen Cannon - Easy Listening Instrumental Guitar
DESCRIPTION:Join beloved local easy-listening instrumental guitarist Karen Cannon in our dining room every Wednesday evening. Reservations are strongly recommended.
URL:https://www.coyote-grill.com/event/karen-cannon-easy-listening-instrumental-guitar-in-the-dining-room/2027-06-16/
CATEGORIES:All Ages,Fun,Music
END:VEVENT
BEGIN:VEVENT
DTSTART;TZID=UTC:20270618T120000
DTEND;TZID=UTC:20270618T150000
DTSTAMP:20260419T165213
CREATED:20260329T204653Z
LAST-MODIFIED:20260329T204653Z
UID:10000341-1813320000-1813330800@www.coyote-grill.com
SUMMARY:Paint and Sip with Gracefully Painting
DESCRIPTION:Join Donnette Keys of Gracefully Painting to create a masterpiece of your very own! Every Friday features a different painting – please use the Eventbrite link below to see upcoming topics. Join us for a meal before or after the session\, and don’t forget to fuel your inner artist with a drink or two while you paint! Reservations are made through Eventbrite\, not the Coyote Grill.
URL:https://www.coyote-grill.com/event/paint-and-sip-with-gracefully-painting-3/2027-06-18/
CATEGORIES:All Ages,Fun
END:VEVENT
BEGIN:VEVENT
DTSTART;TZID=UTC:20270623T170000
DTEND;TZID=UTC:20270623T190000
DTSTAMP:20260419T165213
CREATED:20260302T184924Z
LAST-MODIFIED:20260302T185121Z
UID:10000077-1813770000-1813777200@www.coyote-grill.com
SUMMARY:Karen Cannon - Easy Listening Instrumental Guitar
DESCRIPTION:Join beloved local easy-listening instrumental guitarist Karen Cannon in our dining room every Wednesday evening. Reservations are strongly recommended.
URL:https://www.coyote-grill.com/event/karen-cannon-easy-listening-instrumental-guitar-in-the-dining-room/2027-06-23/
CATEGORIES:All Ages,Fun,Music
END:VEVENT
BEGIN:VEVENT
DTSTART;TZID=UTC:20270625T120000
DTEND;TZID=UTC:20270625T150000
DTSTAMP:20260419T165213
CREATED:20260329T204653Z
LAST-MODIFIED:20260329T204653Z
UID:10000342-1813924800-1813935600@www.coyote-grill.com
SUMMARY:Paint and Sip with Gracefully Painting
DESCRIPTION:Join Donnette Keys of Gracefully Painting to create a masterpiece of your very own! Every Friday features a different painting – please use the Eventbrite link below to see upcoming topics. Join us for a meal before or after the session\, and don’t forget to fuel your inner artist with a drink or two while you paint! Reservations are made through Eventbrite\, not the Coyote Grill.
URL:https://www.coyote-grill.com/event/paint-and-sip-with-gracefully-painting-3/2027-06-25/
CATEGORIES:All Ages,Fun
END:VEVENT
BEGIN:VEVENT
DTSTART;TZID=UTC:20270630T170000
DTEND;TZID=UTC:20270630T190000
DTSTAMP:20260419T165213
CREATED:20260302T184924Z
LAST-MODIFIED:20260302T185121Z
UID:10000078-1814374800-1814382000@www.coyote-grill.com
SUMMARY:Karen Cannon - Easy Listening Instrumental Guitar
DESCRIPTION:Join beloved local easy-listening instrumental guitarist Karen Cannon in our dining room every Wednesday evening. Reservations are strongly recommended.
URL:https://www.coyote-grill.com/event/karen-cannon-easy-listening-instrumental-guitar-in-the-dining-room/2027-06-30/
CATEGORIES:All Ages,Fun,Music
END:VEVENT
BEGIN:VEVENT
DTSTART;TZID=UTC:20270702T120000
DTEND;TZID=UTC:20270702T150000
DTSTAMP:20260419T165213
CREATED:20260329T204653Z
LAST-MODIFIED:20260329T204653Z
UID:10000343-1814529600-1814540400@www.coyote-grill.com
SUMMARY:Paint and Sip with Gracefully Painting
DESCRIPTION:Join Donnette Keys of Gracefully Painting to create a masterpiece of your very own! Every Friday features a different painting – please use the Eventbrite link below to see upcoming topics. Join us for a meal before or after the session\, and don’t forget to fuel your inner artist with a drink or two while you paint! Reservations are made through Eventbrite\, not the Coyote Grill.
URL:https://www.coyote-grill.com/event/paint-and-sip-with-gracefully-painting-3/2027-07-02/
CATEGORIES:All Ages,Fun
END:VEVENT
BEGIN:VEVENT
DTSTART;TZID=UTC:20270707T170000
DTEND;TZID=UTC:20270707T190000
DTSTAMP:20260419T165213
CREATED:20260302T184924Z
LAST-MODIFIED:20260302T185121Z
UID:10000079-1814979600-1814986800@www.coyote-grill.com
SUMMARY:Karen Cannon - Easy Listening Instrumental Guitar
DESCRIPTION:Join beloved local easy-listening instrumental guitarist Karen Cannon in our dining room every Wednesday evening. Reservations are strongly recommended.
URL:https://www.coyote-grill.com/event/karen-cannon-easy-listening-instrumental-guitar-in-the-dining-room/2027-07-07/
CATEGORIES:All Ages,Fun,Music
END:VEVENT
BEGIN:VEVENT
DTSTART;TZID=UTC:20270709T120000
DTEND;TZID=UTC:20270709T150000
DTSTAMP:20260419T165213
CREATED:20260329T204653Z
LAST-MODIFIED:20260329T204653Z
UID:10000344-1815134400-1815145200@www.coyote-grill.com
SUMMARY:Paint and Sip with Gracefully Painting
DESCRIPTION:Join Donnette Keys of Gracefully Painting to create a masterpiece of your very own! Every Friday features a different painting – please use the Eventbrite link below to see upcoming topics. Join us for a meal before or after the session\, and don’t forget to fuel your inner artist with a drink or two while you paint! Reservations are made through Eventbrite\, not the Coyote Grill.
URL:https://www.coyote-grill.com/event/paint-and-sip-with-gracefully-painting-3/2027-07-09/
CATEGORIES:All Ages,Fun
END:VEVENT
BEGIN:VEVENT
DTSTART;TZID=UTC:20270714T170000
DTEND;TZID=UTC:20270714T190000
DTSTAMP:20260419T165213
CREATED:20260302T184924Z
LAST-MODIFIED:20260302T185121Z
UID:10000080-1815584400-1815591600@www.coyote-grill.com
SUMMARY:Karen Cannon - Easy Listening Instrumental Guitar
DESCRIPTION:Join beloved local easy-listening instrumental guitarist Karen Cannon in our dining room every Wednesday evening. Reservations are strongly recommended.
URL:https://www.coyote-grill.com/event/karen-cannon-easy-listening-instrumental-guitar-in-the-dining-room/2027-07-14/
CATEGORIES:All Ages,Fun,Music
END:VEVENT
BEGIN:VEVENT
DTSTART;TZID=UTC:20270716T120000
DTEND;TZID=UTC:20270716T150000
DTSTAMP:20260419T165213
CREATED:20260329T204653Z
LAST-MODIFIED:20260329T204653Z
UID:10000345-1815739200-1815750000@www.coyote-grill.com
SUMMARY:Paint and Sip with Gracefully Painting
DESCRIPTION:Join Donnette Keys of Gracefully Painting to create a masterpiece of your very own! Every Friday features a different painting – please use the Eventbrite link below to see upcoming topics. Join us for a meal before or after the session\, and don’t forget to fuel your inner artist with a drink or two while you paint! Reservations are made through Eventbrite\, not the Coyote Grill.
URL:https://www.coyote-grill.com/event/paint-and-sip-with-gracefully-painting-3/2027-07-16/
CATEGORIES:All Ages,Fun
END:VEVENT
BEGIN:VEVENT
DTSTART;TZID=UTC:20270721T170000
DTEND;TZID=UTC:20270721T190000
DTSTAMP:20260419T165213
CREATED:20260302T184924Z
LAST-MODIFIED:20260302T185121Z
UID:10000081-1816189200-1816196400@www.coyote-grill.com
SUMMARY:Karen Cannon - Easy Listening Instrumental Guitar
DESCRIPTION:Join beloved local easy-listening instrumental guitarist Karen Cannon in our dining room every Wednesday evening. Reservations are strongly recommended.
URL:https://www.coyote-grill.com/event/karen-cannon-easy-listening-instrumental-guitar-in-the-dining-room/2027-07-21/
CATEGORIES:All Ages,Fun,Music
END:VEVENT
BEGIN:VEVENT
DTSTART;TZID=UTC:20270723T120000
DTEND;TZID=UTC:20270723T150000
DTSTAMP:20260419T165213
CREATED:20260329T204653Z
LAST-MODIFIED:20260329T204653Z
UID:10000346-1816344000-1816354800@www.coyote-grill.com
SUMMARY:Paint and Sip with Gracefully Painting
DESCRIPTION:Join Donnette Keys of Gracefully Painting to create a masterpiece of your very own! Every Friday features a different painting – please use the Eventbrite link below to see upcoming topics. Join us for a meal before or after the session\, and don’t forget to fuel your inner artist with a drink or two while you paint! Reservations are made through Eventbrite\, not the Coyote Grill.
URL:https://www.coyote-grill.com/event/paint-and-sip-with-gracefully-painting-3/2027-07-23/
CATEGORIES:All Ages,Fun
END:VEVENT
BEGIN:VEVENT
DTSTART;TZID=UTC:20270728T170000
DTEND;TZID=UTC:20270728T190000
DTSTAMP:20260419T165213
CREATED:20260302T184924Z
LAST-MODIFIED:20260302T185121Z
UID:10000082-1816794000-1816801200@www.coyote-grill.com
SUMMARY:Karen Cannon - Easy Listening Instrumental Guitar
DESCRIPTION:Join beloved local easy-listening instrumental guitarist Karen Cannon in our dining room every Wednesday evening. Reservations are strongly recommended.
URL:https://www.coyote-grill.com/event/karen-cannon-easy-listening-instrumental-guitar-in-the-dining-room/2027-07-28/
CATEGORIES:All Ages,Fun,Music
END:VEVENT
BEGIN:VEVENT
DTSTART;TZID=UTC:20270730T120000
DTEND;TZID=UTC:20270730T150000
DTSTAMP:20260419T165213
CREATED:20260329T204653Z
LAST-MODIFIED:20260329T204653Z
UID:10000347-1816948800-1816959600@www.coyote-grill.com
SUMMARY:Paint and Sip with Gracefully Painting
DESCRIPTION:Join Donnette Keys of Gracefully Painting to create a masterpiece of your very own! Every Friday features a different painting – please use the Eventbrite link below to see upcoming topics. Join us for a meal before or after the session\, and don’t forget to fuel your inner artist with a drink or two while you paint! Reservations are made through Eventbrite\, not the Coyote Grill.
URL:https://www.coyote-grill.com/event/paint-and-sip-with-gracefully-painting-3/2027-07-30/
CATEGORIES:All Ages,Fun
END:VEVENT
BEGIN:VEVENT
DTSTART;TZID=UTC:20270804T170000
DTEND;TZID=UTC:20270804T190000
DTSTAMP:20260419T165213
CREATED:20260302T184924Z
LAST-MODIFIED:20260302T185121Z
UID:10000083-1817398800-1817406000@www.coyote-grill.com
SUMMARY:Karen Cannon - Easy Listening Instrumental Guitar
DESCRIPTION:Join beloved local easy-listening instrumental guitarist Karen Cannon in our dining room every Wednesday evening. Reservations are strongly recommended.
URL:https://www.coyote-grill.com/event/karen-cannon-easy-listening-instrumental-guitar-in-the-dining-room/2027-08-04/
CATEGORIES:All Ages,Fun,Music
END:VEVENT
BEGIN:VEVENT
DTSTART;TZID=UTC:20270806T120000
DTEND;TZID=UTC:20270806T150000
DTSTAMP:20260419T165213
CREATED:20260329T204653Z
LAST-MODIFIED:20260329T204653Z
UID:10000348-1817553600-1817564400@www.coyote-grill.com
SUMMARY:Paint and Sip with Gracefully Painting
DESCRIPTION:Join Donnette Keys of Gracefully Painting to create a masterpiece of your very own! Every Friday features a different painting – please use the Eventbrite link below to see upcoming topics. Join us for a meal before or after the session\, and don’t forget to fuel your inner artist with a drink or two while you paint! Reservations are made through Eventbrite\, not the Coyote Grill.
URL:https://www.coyote-grill.com/event/paint-and-sip-with-gracefully-painting-3/2027-08-06/
CATEGORIES:All Ages,Fun
END:VEVENT
BEGIN:VEVENT
DTSTART;TZID=UTC:20270811T170000
DTEND;TZID=UTC:20270811T190000
DTSTAMP:20260419T165213
CREATED:20260302T184924Z
LAST-MODIFIED:20260302T185121Z
UID:10000084-1818003600-1818010800@www.coyote-grill.com
SUMMARY:Karen Cannon - Easy Listening Instrumental Guitar
DESCRIPTION:Join beloved local easy-listening instrumental guitarist Karen Cannon in our dining room every Wednesday evening. Reservations are strongly recommended.
URL:https://www.coyote-grill.com/event/karen-cannon-easy-listening-instrumental-guitar-in-the-dining-room/2027-08-11/
CATEGORIES:All Ages,Fun,Music
END:VEVENT
BEGIN:VEVENT
DTSTART;TZID=UTC:20270813T120000
DTEND;TZID=UTC:20270813T150000
DTSTAMP:20260419T165213
CREATED:20260329T204653Z
LAST-MODIFIED:20260329T204653Z
UID:10000349-1818158400-1818169200@www.coyote-grill.com
SUMMARY:Paint and Sip with Gracefully Painting
DESCRIPTION:Join Donnette Keys of Gracefully Painting to create a masterpiece of your very own! Every Friday features a different painting – please use the Eventbrite link below to see upcoming topics. Join us for a meal before or after the session\, and don’t forget to fuel your inner artist with a drink or two while you paint! Reservations are made through Eventbrite\, not the Coyote Grill.
URL:https://www.coyote-grill.com/event/paint-and-sip-with-gracefully-painting-3/2027-08-13/
CATEGORIES:All Ages,Fun
END:VEVENT
BEGIN:VEVENT
DTSTART;TZID=UTC:20270818T170000
DTEND;TZID=UTC:20270818T190000
DTSTAMP:20260419T165213
CREATED:20260302T184924Z
LAST-MODIFIED:20260302T185121Z
UID:10000085-1818608400-1818615600@www.coyote-grill.com
SUMMARY:Karen Cannon - Easy Listening Instrumental Guitar
DESCRIPTION:Join beloved local easy-listening instrumental guitarist Karen Cannon in our dining room every Wednesday evening. Reservations are strongly recommended.
URL:https://www.coyote-grill.com/event/karen-cannon-easy-listening-instrumental-guitar-in-the-dining-room/2027-08-18/
CATEGORIES:All Ages,Fun,Music
END:VEVENT
BEGIN:VEVENT
DTSTART;TZID=UTC:20270820T120000
DTEND;TZID=UTC:20270820T150000
DTSTAMP:20260419T165213
CREATED:20260329T204653Z
LAST-MODIFIED:20260329T204653Z
UID:10000350-1818763200-1818774000@www.coyote-grill.com
SUMMARY:Paint and Sip with Gracefully Painting
DESCRIPTION:Join Donnette Keys of Gracefully Painting to create a masterpiece of your very own! Every Friday features a different painting – please use the Eventbrite link below to see upcoming topics. Join us for a meal before or after the session\, and don’t forget to fuel your inner artist with a drink or two while you paint! Reservations are made through Eventbrite\, not the Coyote Grill.
URL:https://www.coyote-grill.com/event/paint-and-sip-with-gracefully-painting-3/2027-08-20/
CATEGORIES:All Ages,Fun
END:VEVENT
BEGIN:VEVENT
DTSTART;TZID=UTC:20270825T170000
DTEND;TZID=UTC:20270825T190000
DTSTAMP:20260419T165213
CREATED:20260302T184924Z
LAST-MODIFIED:20260302T185121Z
UID:10000086-1819213200-1819220400@www.coyote-grill.com
SUMMARY:Karen Cannon - Easy Listening Instrumental Guitar
DESCRIPTION:Join beloved local easy-listening instrumental guitarist Karen Cannon in our dining room every Wednesday evening. Reservations are strongly recommended.
URL:https://www.coyote-grill.com/event/karen-cannon-easy-listening-instrumental-guitar-in-the-dining-room/2027-08-25/
CATEGORIES:All Ages,Fun,Music
END:VEVENT
BEGIN:VEVENT
DTSTART;TZID=UTC:20270827T120000
DTEND;TZID=UTC:20270827T150000
DTSTAMP:20260419T165213
CREATED:20260329T204653Z
LAST-MODIFIED:20260329T204653Z
UID:10000351-1819368000-1819378800@www.coyote-grill.com
SUMMARY:Paint and Sip with Gracefully Painting
DESCRIPTION:Join Donnette Keys of Gracefully Painting to create a masterpiece of your very own! Every Friday features a different painting – please use the Eventbrite link below to see upcoming topics. Join us for a meal before or after the session\, and don’t forget to fuel your inner artist with a drink or two while you paint! Reservations are made through Eventbrite\, not the Coyote Grill.
URL:https://www.coyote-grill.com/event/paint-and-sip-with-gracefully-painting-3/2027-08-27/
CATEGORIES:All Ages,Fun
END:VEVENT
BEGIN:VEVENT
DTSTART;TZID=UTC:20270901T170000
DTEND;TZID=UTC:20270901T190000
DTSTAMP:20260419T165213
CREATED:20260302T184924Z
LAST-MODIFIED:20260302T185121Z
UID:10000087-1819818000-1819825200@www.coyote-grill.com
SUMMARY:Karen Cannon - Easy Listening Instrumental Guitar
DESCRIPTION:Join beloved local easy-listening instrumental guitarist Karen Cannon in our dining room every Wednesday evening. Reservations are strongly recommended.
URL:https://www.coyote-grill.com/event/karen-cannon-easy-listening-instrumental-guitar-in-the-dining-room/2027-09-01/
CATEGORIES:All Ages,Fun,Music
END:VEVENT
BEGIN:VEVENT
DTSTART;TZID=UTC:20270903T120000
DTEND;TZID=UTC:20270903T150000
DTSTAMP:20260419T165213
CREATED:20260329T204653Z
LAST-MODIFIED:20260329T204653Z
UID:10000352-1819972800-1819983600@www.coyote-grill.com
SUMMARY:Paint and Sip with Gracefully Painting
DESCRIPTION:Join Donnette Keys of Gracefully Painting to create a masterpiece of your very own! Every Friday features a different painting – please use the Eventbrite link below to see upcoming topics. Join us for a meal before or after the session\, and don’t forget to fuel your inner artist with a drink or two while you paint! Reservations are made through Eventbrite\, not the Coyote Grill.
URL:https://www.coyote-grill.com/event/paint-and-sip-with-gracefully-painting-3/2027-09-03/
CATEGORIES:All Ages,Fun
END:VEVENT
BEGIN:VEVENT
DTSTART;TZID=UTC:20270908T170000
DTEND;TZID=UTC:20270908T190000
DTSTAMP:20260419T165213
CREATED:20260302T184924Z
LAST-MODIFIED:20260302T185121Z
UID:10000088-1820422800-1820430000@www.coyote-grill.com
SUMMARY:Karen Cannon - Easy Listening Instrumental Guitar
DESCRIPTION:Join beloved local easy-listening instrumental guitarist Karen Cannon in our dining room every Wednesday evening. Reservations are strongly recommended.
URL:https://www.coyote-grill.com/event/karen-cannon-easy-listening-instrumental-guitar-in-the-dining-room/2027-09-08/
CATEGORIES:All Ages,Fun,Music
END:VEVENT
BEGIN:VEVENT
DTSTART;TZID=UTC:20270910T120000
DTEND;TZID=UTC:20270910T150000
DTSTAMP:20260419T165213
CREATED:20260329T204653Z
LAST-MODIFIED:20260329T204653Z
UID:10000353-1820577600-1820588400@www.coyote-grill.com
SUMMARY:Paint and Sip with Gracefully Painting
DESCRIPTION:Join Donnette Keys of Gracefully Painting to create a masterpiece of your very own! Every Friday features a different painting – please use the Eventbrite link below to see upcoming topics. Join us for a meal before or after the session\, and don’t forget to fuel your inner artist with a drink or two while you paint! Reservations are made through Eventbrite\, not the Coyote Grill.
URL:https://www.coyote-grill.com/event/paint-and-sip-with-gracefully-painting-3/2027-09-10/
CATEGORIES:All Ages,Fun
END:VEVENT
BEGIN:VEVENT
DTSTART;TZID=UTC:20270915T170000
DTEND;TZID=UTC:20270915T190000
DTSTAMP:20260419T165213
CREATED:20260302T184924Z
LAST-MODIFIED:20260302T185121Z
UID:10000089-1821027600-1821034800@www.coyote-grill.com
SUMMARY:Karen Cannon - Easy Listening Instrumental Guitar
DESCRIPTION:Join beloved local easy-listening instrumental guitarist Karen Cannon in our dining room every Wednesday evening. Reservations are strongly recommended.
URL:https://www.coyote-grill.com/event/karen-cannon-easy-listening-instrumental-guitar-in-the-dining-room/2027-09-15/
CATEGORIES:All Ages,Fun,Music
END:VEVENT
BEGIN:VEVENT
DTSTART;TZID=UTC:20270917T120000
DTEND;TZID=UTC:20270917T150000
DTSTAMP:20260419T165213
CREATED:20260329T204653Z
LAST-MODIFIED:20260329T204653Z
UID:10000354-1821182400-1821193200@www.coyote-grill.com
SUMMARY:Paint and Sip with Gracefully Painting
DESCRIPTION:Join Donnette Keys of Gracefully Painting to create a masterpiece of your very own! Every Friday features a different painting – please use the Eventbrite link below to see upcoming topics. Join us for a meal before or after the session\, and don’t forget to fuel your inner artist with a drink or two while you paint! Reservations are made through Eventbrite\, not the Coyote Grill.
URL:https://www.coyote-grill.com/event/paint-and-sip-with-gracefully-painting-3/2027-09-17/
CATEGORIES:All Ages,Fun
END:VEVENT
END:VCALENDAR