BEGIN:VCALENDAR
VERSION:2.0
PRODID:-//Coyote Grill at San Ignacio - ECPv6.15.18//NONSGML v1.0//EN
CALSCALE:GREGORIAN
METHOD:PUBLISH
X-ORIGINAL-URL:https://www.coyote-grill.com
X-WR-CALDESC:Events for Coyote Grill at San Ignacio
REFRESH-INTERVAL;VALUE=DURATION:PT1H
X-Robots-Tag:noindex
X-PUBLISHED-TTL:PT1H
BEGIN:VTIMEZONE
TZID:UTC
BEGIN:STANDARD
TZOFFSETFROM:+0000
TZOFFSETTO:+0000
TZNAME:UTC
DTSTART:20280101T000000
END:STANDARD
END:VTIMEZONE
BEGIN:VEVENT
DTSTART;TZID=UTC:20290725T170000
DTEND;TZID=UTC:20290725T190000
DTSTAMP:20260422T213546
CREATED:20260302T184924Z
LAST-MODIFIED:20260302T185121Z
UID:10000186-1879693200-1879700400@www.coyote-grill.com
SUMMARY:Karen Cannon - Easy Listening Instrumental Guitar
DESCRIPTION:Join beloved local easy-listening instrumental guitarist Karen Cannon in our dining room every Wednesday evening. Reservations are strongly recommended.
URL:https://www.coyote-grill.com/event/karen-cannon-easy-listening-instrumental-guitar-in-the-dining-room/2029-07-25/
CATEGORIES:All Ages,Fun,Music
END:VEVENT
BEGIN:VEVENT
DTSTART;TZID=UTC:20290727T120000
DTEND;TZID=UTC:20290727T150000
DTSTAMP:20260422T213546
CREATED:20260329T204653Z
LAST-MODIFIED:20260329T204653Z
UID:10000451-1879848000-1879858800@www.coyote-grill.com
SUMMARY:Paint and Sip with Gracefully Painting
DESCRIPTION:Join Donnette Keys of Gracefully Painting to create a masterpiece of your very own! Every Friday features a different painting – please use the Eventbrite link below to see upcoming topics. Join us for a meal before or after the session\, and don’t forget to fuel your inner artist with a drink or two while you paint! Reservations are made through Eventbrite\, not the Coyote Grill.
URL:https://www.coyote-grill.com/event/paint-and-sip-with-gracefully-painting-3/2029-07-27/
CATEGORIES:All Ages,Fun
END:VEVENT
BEGIN:VEVENT
DTSTART;TZID=UTC:20290801T170000
DTEND;TZID=UTC:20290801T190000
DTSTAMP:20260422T213546
CREATED:20260302T184924Z
LAST-MODIFIED:20260302T185121Z
UID:10000187-1880298000-1880305200@www.coyote-grill.com
SUMMARY:Karen Cannon - Easy Listening Instrumental Guitar
DESCRIPTION:Join beloved local easy-listening instrumental guitarist Karen Cannon in our dining room every Wednesday evening. Reservations are strongly recommended.
URL:https://www.coyote-grill.com/event/karen-cannon-easy-listening-instrumental-guitar-in-the-dining-room/2029-08-01/
CATEGORIES:All Ages,Fun,Music
END:VEVENT
BEGIN:VEVENT
DTSTART;TZID=UTC:20290803T120000
DTEND;TZID=UTC:20290803T150000
DTSTAMP:20260422T213546
CREATED:20260329T204653Z
LAST-MODIFIED:20260329T204653Z
UID:10000452-1880452800-1880463600@www.coyote-grill.com
SUMMARY:Paint and Sip with Gracefully Painting
DESCRIPTION:Join Donnette Keys of Gracefully Painting to create a masterpiece of your very own! Every Friday features a different painting – please use the Eventbrite link below to see upcoming topics. Join us for a meal before or after the session\, and don’t forget to fuel your inner artist with a drink or two while you paint! Reservations are made through Eventbrite\, not the Coyote Grill.
URL:https://www.coyote-grill.com/event/paint-and-sip-with-gracefully-painting-3/2029-08-03/
CATEGORIES:All Ages,Fun
END:VEVENT
BEGIN:VEVENT
DTSTART;TZID=UTC:20290808T170000
DTEND;TZID=UTC:20290808T190000
DTSTAMP:20260422T213546
CREATED:20260302T184924Z
LAST-MODIFIED:20260302T185121Z
UID:10000188-1880902800-1880910000@www.coyote-grill.com
SUMMARY:Karen Cannon - Easy Listening Instrumental Guitar
DESCRIPTION:Join beloved local easy-listening instrumental guitarist Karen Cannon in our dining room every Wednesday evening. Reservations are strongly recommended.
URL:https://www.coyote-grill.com/event/karen-cannon-easy-listening-instrumental-guitar-in-the-dining-room/2029-08-08/
CATEGORIES:All Ages,Fun,Music
END:VEVENT
BEGIN:VEVENT
DTSTART;TZID=UTC:20290810T120000
DTEND;TZID=UTC:20290810T150000
DTSTAMP:20260422T213546
CREATED:20260329T204653Z
LAST-MODIFIED:20260329T204653Z
UID:10000453-1881057600-1881068400@www.coyote-grill.com
SUMMARY:Paint and Sip with Gracefully Painting
DESCRIPTION:Join Donnette Keys of Gracefully Painting to create a masterpiece of your very own! Every Friday features a different painting – please use the Eventbrite link below to see upcoming topics. Join us for a meal before or after the session\, and don’t forget to fuel your inner artist with a drink or two while you paint! Reservations are made through Eventbrite\, not the Coyote Grill.
URL:https://www.coyote-grill.com/event/paint-and-sip-with-gracefully-painting-3/2029-08-10/
CATEGORIES:All Ages,Fun
END:VEVENT
BEGIN:VEVENT
DTSTART;TZID=UTC:20290815T170000
DTEND;TZID=UTC:20290815T190000
DTSTAMP:20260422T213546
CREATED:20260302T184924Z
LAST-MODIFIED:20260302T185121Z
UID:10000189-1881507600-1881514800@www.coyote-grill.com
SUMMARY:Karen Cannon - Easy Listening Instrumental Guitar
DESCRIPTION:Join beloved local easy-listening instrumental guitarist Karen Cannon in our dining room every Wednesday evening. Reservations are strongly recommended.
URL:https://www.coyote-grill.com/event/karen-cannon-easy-listening-instrumental-guitar-in-the-dining-room/2029-08-15/
CATEGORIES:All Ages,Fun,Music
END:VEVENT
BEGIN:VEVENT
DTSTART;TZID=UTC:20290817T120000
DTEND;TZID=UTC:20290817T150000
DTSTAMP:20260422T213546
CREATED:20260329T204653Z
LAST-MODIFIED:20260329T204653Z
UID:10000454-1881662400-1881673200@www.coyote-grill.com
SUMMARY:Paint and Sip with Gracefully Painting
DESCRIPTION:Join Donnette Keys of Gracefully Painting to create a masterpiece of your very own! Every Friday features a different painting – please use the Eventbrite link below to see upcoming topics. Join us for a meal before or after the session\, and don’t forget to fuel your inner artist with a drink or two while you paint! Reservations are made through Eventbrite\, not the Coyote Grill.
URL:https://www.coyote-grill.com/event/paint-and-sip-with-gracefully-painting-3/2029-08-17/
CATEGORIES:All Ages,Fun
END:VEVENT
BEGIN:VEVENT
DTSTART;TZID=UTC:20290822T170000
DTEND;TZID=UTC:20290822T190000
DTSTAMP:20260422T213546
CREATED:20260302T184924Z
LAST-MODIFIED:20260302T185121Z
UID:10000190-1882112400-1882119600@www.coyote-grill.com
SUMMARY:Karen Cannon - Easy Listening Instrumental Guitar
DESCRIPTION:Join beloved local easy-listening instrumental guitarist Karen Cannon in our dining room every Wednesday evening. Reservations are strongly recommended.
URL:https://www.coyote-grill.com/event/karen-cannon-easy-listening-instrumental-guitar-in-the-dining-room/2029-08-22/
CATEGORIES:All Ages,Fun,Music
END:VEVENT
BEGIN:VEVENT
DTSTART;TZID=UTC:20290824T120000
DTEND;TZID=UTC:20290824T150000
DTSTAMP:20260422T213546
CREATED:20260329T204653Z
LAST-MODIFIED:20260329T204653Z
UID:10000455-1882267200-1882278000@www.coyote-grill.com
SUMMARY:Paint and Sip with Gracefully Painting
DESCRIPTION:Join Donnette Keys of Gracefully Painting to create a masterpiece of your very own! Every Friday features a different painting – please use the Eventbrite link below to see upcoming topics. Join us for a meal before or after the session\, and don’t forget to fuel your inner artist with a drink or two while you paint! Reservations are made through Eventbrite\, not the Coyote Grill.
URL:https://www.coyote-grill.com/event/paint-and-sip-with-gracefully-painting-3/2029-08-24/
CATEGORIES:All Ages,Fun
END:VEVENT
BEGIN:VEVENT
DTSTART;TZID=UTC:20290829T170000
DTEND;TZID=UTC:20290829T190000
DTSTAMP:20260422T213546
CREATED:20260302T184924Z
LAST-MODIFIED:20260302T185121Z
UID:10000191-1882717200-1882724400@www.coyote-grill.com
SUMMARY:Karen Cannon - Easy Listening Instrumental Guitar
DESCRIPTION:Join beloved local easy-listening instrumental guitarist Karen Cannon in our dining room every Wednesday evening. Reservations are strongly recommended.
URL:https://www.coyote-grill.com/event/karen-cannon-easy-listening-instrumental-guitar-in-the-dining-room/2029-08-29/
CATEGORIES:All Ages,Fun,Music
END:VEVENT
BEGIN:VEVENT
DTSTART;TZID=UTC:20290831T120000
DTEND;TZID=UTC:20290831T150000
DTSTAMP:20260422T213546
CREATED:20260329T204653Z
LAST-MODIFIED:20260329T204653Z
UID:10000456-1882872000-1882882800@www.coyote-grill.com
SUMMARY:Paint and Sip with Gracefully Painting
DESCRIPTION:Join Donnette Keys of Gracefully Painting to create a masterpiece of your very own! Every Friday features a different painting – please use the Eventbrite link below to see upcoming topics. Join us for a meal before or after the session\, and don’t forget to fuel your inner artist with a drink or two while you paint! Reservations are made through Eventbrite\, not the Coyote Grill.
URL:https://www.coyote-grill.com/event/paint-and-sip-with-gracefully-painting-3/2029-08-31/
CATEGORIES:All Ages,Fun
END:VEVENT
BEGIN:VEVENT
DTSTART;TZID=UTC:20290905T170000
DTEND;TZID=UTC:20290905T190000
DTSTAMP:20260422T213546
CREATED:20260302T184924Z
LAST-MODIFIED:20260302T185121Z
UID:10000192-1883322000-1883329200@www.coyote-grill.com
SUMMARY:Karen Cannon - Easy Listening Instrumental Guitar
DESCRIPTION:Join beloved local easy-listening instrumental guitarist Karen Cannon in our dining room every Wednesday evening. Reservations are strongly recommended.
URL:https://www.coyote-grill.com/event/karen-cannon-easy-listening-instrumental-guitar-in-the-dining-room/2029-09-05/
CATEGORIES:All Ages,Fun,Music
END:VEVENT
BEGIN:VEVENT
DTSTART;TZID=UTC:20290907T120000
DTEND;TZID=UTC:20290907T150000
DTSTAMP:20260422T213546
CREATED:20260329T204653Z
LAST-MODIFIED:20260329T204653Z
UID:10000457-1883476800-1883487600@www.coyote-grill.com
SUMMARY:Paint and Sip with Gracefully Painting
DESCRIPTION:Join Donnette Keys of Gracefully Painting to create a masterpiece of your very own! Every Friday features a different painting – please use the Eventbrite link below to see upcoming topics. Join us for a meal before or after the session\, and don’t forget to fuel your inner artist with a drink or two while you paint! Reservations are made through Eventbrite\, not the Coyote Grill.
URL:https://www.coyote-grill.com/event/paint-and-sip-with-gracefully-painting-3/2029-09-07/
CATEGORIES:All Ages,Fun
END:VEVENT
BEGIN:VEVENT
DTSTART;TZID=UTC:20290912T170000
DTEND;TZID=UTC:20290912T190000
DTSTAMP:20260422T213546
CREATED:20260302T184924Z
LAST-MODIFIED:20260302T185121Z
UID:10000193-1883926800-1883934000@www.coyote-grill.com
SUMMARY:Karen Cannon - Easy Listening Instrumental Guitar
DESCRIPTION:Join beloved local easy-listening instrumental guitarist Karen Cannon in our dining room every Wednesday evening. Reservations are strongly recommended.
URL:https://www.coyote-grill.com/event/karen-cannon-easy-listening-instrumental-guitar-in-the-dining-room/2029-09-12/
CATEGORIES:All Ages,Fun,Music
END:VEVENT
BEGIN:VEVENT
DTSTART;TZID=UTC:20290914T120000
DTEND;TZID=UTC:20290914T150000
DTSTAMP:20260422T213546
CREATED:20260329T204653Z
LAST-MODIFIED:20260329T204653Z
UID:10000458-1884081600-1884092400@www.coyote-grill.com
SUMMARY:Paint and Sip with Gracefully Painting
DESCRIPTION:Join Donnette Keys of Gracefully Painting to create a masterpiece of your very own! Every Friday features a different painting – please use the Eventbrite link below to see upcoming topics. Join us for a meal before or after the session\, and don’t forget to fuel your inner artist with a drink or two while you paint! Reservations are made through Eventbrite\, not the Coyote Grill.
URL:https://www.coyote-grill.com/event/paint-and-sip-with-gracefully-painting-3/2029-09-14/
CATEGORIES:All Ages,Fun
END:VEVENT
BEGIN:VEVENT
DTSTART;TZID=UTC:20290919T170000
DTEND;TZID=UTC:20290919T190000
DTSTAMP:20260422T213546
CREATED:20260302T184924Z
LAST-MODIFIED:20260302T185121Z
UID:10000194-1884531600-1884538800@www.coyote-grill.com
SUMMARY:Karen Cannon - Easy Listening Instrumental Guitar
DESCRIPTION:Join beloved local easy-listening instrumental guitarist Karen Cannon in our dining room every Wednesday evening. Reservations are strongly recommended.
URL:https://www.coyote-grill.com/event/karen-cannon-easy-listening-instrumental-guitar-in-the-dining-room/2029-09-19/
CATEGORIES:All Ages,Fun,Music
END:VEVENT
BEGIN:VEVENT
DTSTART;TZID=UTC:20290921T120000
DTEND;TZID=UTC:20290921T150000
DTSTAMP:20260422T213546
CREATED:20260329T204653Z
LAST-MODIFIED:20260329T204653Z
UID:10000459-1884686400-1884697200@www.coyote-grill.com
SUMMARY:Paint and Sip with Gracefully Painting
DESCRIPTION:Join Donnette Keys of Gracefully Painting to create a masterpiece of your very own! Every Friday features a different painting – please use the Eventbrite link below to see upcoming topics. Join us for a meal before or after the session\, and don’t forget to fuel your inner artist with a drink or two while you paint! Reservations are made through Eventbrite\, not the Coyote Grill.
URL:https://www.coyote-grill.com/event/paint-and-sip-with-gracefully-painting-3/2029-09-21/
CATEGORIES:All Ages,Fun
END:VEVENT
BEGIN:VEVENT
DTSTART;TZID=UTC:20290926T170000
DTEND;TZID=UTC:20290926T190000
DTSTAMP:20260422T213546
CREATED:20260302T184924Z
LAST-MODIFIED:20260302T185121Z
UID:10000195-1885136400-1885143600@www.coyote-grill.com
SUMMARY:Karen Cannon - Easy Listening Instrumental Guitar
DESCRIPTION:Join beloved local easy-listening instrumental guitarist Karen Cannon in our dining room every Wednesday evening. Reservations are strongly recommended.
URL:https://www.coyote-grill.com/event/karen-cannon-easy-listening-instrumental-guitar-in-the-dining-room/2029-09-26/
CATEGORIES:All Ages,Fun,Music
END:VEVENT
BEGIN:VEVENT
DTSTART;TZID=UTC:20290928T120000
DTEND;TZID=UTC:20290928T150000
DTSTAMP:20260422T213546
CREATED:20260329T204653Z
LAST-MODIFIED:20260329T204653Z
UID:10000460-1885291200-1885302000@www.coyote-grill.com
SUMMARY:Paint and Sip with Gracefully Painting
DESCRIPTION:Join Donnette Keys of Gracefully Painting to create a masterpiece of your very own! Every Friday features a different painting – please use the Eventbrite link below to see upcoming topics. Join us for a meal before or after the session\, and don’t forget to fuel your inner artist with a drink or two while you paint! Reservations are made through Eventbrite\, not the Coyote Grill.
URL:https://www.coyote-grill.com/event/paint-and-sip-with-gracefully-painting-3/2029-09-28/
CATEGORIES:All Ages,Fun
END:VEVENT
BEGIN:VEVENT
DTSTART;TZID=UTC:20291003T170000
DTEND;TZID=UTC:20291003T190000
DTSTAMP:20260422T213546
CREATED:20260302T184924Z
LAST-MODIFIED:20260302T185121Z
UID:10000196-1885741200-1885748400@www.coyote-grill.com
SUMMARY:Karen Cannon - Easy Listening Instrumental Guitar
DESCRIPTION:Join beloved local easy-listening instrumental guitarist Karen Cannon in our dining room every Wednesday evening. Reservations are strongly recommended.
URL:https://www.coyote-grill.com/event/karen-cannon-easy-listening-instrumental-guitar-in-the-dining-room/2029-10-03/
CATEGORIES:All Ages,Fun,Music
END:VEVENT
BEGIN:VEVENT
DTSTART;TZID=UTC:20291005T120000
DTEND;TZID=UTC:20291005T150000
DTSTAMP:20260422T213546
CREATED:20260329T204653Z
LAST-MODIFIED:20260329T204653Z
UID:10000461-1885896000-1885906800@www.coyote-grill.com
SUMMARY:Paint and Sip with Gracefully Painting
DESCRIPTION:Join Donnette Keys of Gracefully Painting to create a masterpiece of your very own! Every Friday features a different painting – please use the Eventbrite link below to see upcoming topics. Join us for a meal before or after the session\, and don’t forget to fuel your inner artist with a drink or two while you paint! Reservations are made through Eventbrite\, not the Coyote Grill.
URL:https://www.coyote-grill.com/event/paint-and-sip-with-gracefully-painting-3/2029-10-05/
CATEGORIES:All Ages,Fun
END:VEVENT
BEGIN:VEVENT
DTSTART;TZID=UTC:20291010T170000
DTEND;TZID=UTC:20291010T190000
DTSTAMP:20260422T213546
CREATED:20260302T184924Z
LAST-MODIFIED:20260302T185121Z
UID:10000197-1886346000-1886353200@www.coyote-grill.com
SUMMARY:Karen Cannon - Easy Listening Instrumental Guitar
DESCRIPTION:Join beloved local easy-listening instrumental guitarist Karen Cannon in our dining room every Wednesday evening. Reservations are strongly recommended.
URL:https://www.coyote-grill.com/event/karen-cannon-easy-listening-instrumental-guitar-in-the-dining-room/2029-10-10/
CATEGORIES:All Ages,Fun,Music
END:VEVENT
BEGIN:VEVENT
DTSTART;TZID=UTC:20291012T120000
DTEND;TZID=UTC:20291012T150000
DTSTAMP:20260422T213546
CREATED:20260329T204653Z
LAST-MODIFIED:20260329T204653Z
UID:10000462-1886500800-1886511600@www.coyote-grill.com
SUMMARY:Paint and Sip with Gracefully Painting
DESCRIPTION:Join Donnette Keys of Gracefully Painting to create a masterpiece of your very own! Every Friday features a different painting – please use the Eventbrite link below to see upcoming topics. Join us for a meal before or after the session\, and don’t forget to fuel your inner artist with a drink or two while you paint! Reservations are made through Eventbrite\, not the Coyote Grill.
URL:https://www.coyote-grill.com/event/paint-and-sip-with-gracefully-painting-3/2029-10-12/
CATEGORIES:All Ages,Fun
END:VEVENT
BEGIN:VEVENT
DTSTART;TZID=UTC:20291017T170000
DTEND;TZID=UTC:20291017T190000
DTSTAMP:20260422T213546
CREATED:20260302T184924Z
LAST-MODIFIED:20260302T185121Z
UID:10000198-1886950800-1886958000@www.coyote-grill.com
SUMMARY:Karen Cannon - Easy Listening Instrumental Guitar
DESCRIPTION:Join beloved local easy-listening instrumental guitarist Karen Cannon in our dining room every Wednesday evening. Reservations are strongly recommended.
URL:https://www.coyote-grill.com/event/karen-cannon-easy-listening-instrumental-guitar-in-the-dining-room/2029-10-17/
CATEGORIES:All Ages,Fun,Music
END:VEVENT
BEGIN:VEVENT
DTSTART;TZID=UTC:20291019T120000
DTEND;TZID=UTC:20291019T150000
DTSTAMP:20260422T213546
CREATED:20260329T204653Z
LAST-MODIFIED:20260329T204653Z
UID:10000463-1887105600-1887116400@www.coyote-grill.com
SUMMARY:Paint and Sip with Gracefully Painting
DESCRIPTION:Join Donnette Keys of Gracefully Painting to create a masterpiece of your very own! Every Friday features a different painting – please use the Eventbrite link below to see upcoming topics. Join us for a meal before or after the session\, and don’t forget to fuel your inner artist with a drink or two while you paint! Reservations are made through Eventbrite\, not the Coyote Grill.
URL:https://www.coyote-grill.com/event/paint-and-sip-with-gracefully-painting-3/2029-10-19/
CATEGORIES:All Ages,Fun
END:VEVENT
BEGIN:VEVENT
DTSTART;TZID=UTC:20291024T170000
DTEND;TZID=UTC:20291024T190000
DTSTAMP:20260422T213546
CREATED:20260302T184924Z
LAST-MODIFIED:20260302T185121Z
UID:10000199-1887555600-1887562800@www.coyote-grill.com
SUMMARY:Karen Cannon - Easy Listening Instrumental Guitar
DESCRIPTION:Join beloved local easy-listening instrumental guitarist Karen Cannon in our dining room every Wednesday evening. Reservations are strongly recommended.
URL:https://www.coyote-grill.com/event/karen-cannon-easy-listening-instrumental-guitar-in-the-dining-room/2029-10-24/
CATEGORIES:All Ages,Fun,Music
END:VEVENT
BEGIN:VEVENT
DTSTART;TZID=UTC:20291026T120000
DTEND;TZID=UTC:20291026T150000
DTSTAMP:20260422T213546
CREATED:20260329T204653Z
LAST-MODIFIED:20260329T204653Z
UID:10000464-1887710400-1887721200@www.coyote-grill.com
SUMMARY:Paint and Sip with Gracefully Painting
DESCRIPTION:Join Donnette Keys of Gracefully Painting to create a masterpiece of your very own! Every Friday features a different painting – please use the Eventbrite link below to see upcoming topics. Join us for a meal before or after the session\, and don’t forget to fuel your inner artist with a drink or two while you paint! Reservations are made through Eventbrite\, not the Coyote Grill.
URL:https://www.coyote-grill.com/event/paint-and-sip-with-gracefully-painting-3/2029-10-26/
CATEGORIES:All Ages,Fun
END:VEVENT
BEGIN:VEVENT
DTSTART;TZID=UTC:20291031T170000
DTEND;TZID=UTC:20291031T190000
DTSTAMP:20260422T213546
CREATED:20260302T184924Z
LAST-MODIFIED:20260302T185121Z
UID:10000200-1888160400-1888167600@www.coyote-grill.com
SUMMARY:Karen Cannon - Easy Listening Instrumental Guitar
DESCRIPTION:Join beloved local easy-listening instrumental guitarist Karen Cannon in our dining room every Wednesday evening. Reservations are strongly recommended.
URL:https://www.coyote-grill.com/event/karen-cannon-easy-listening-instrumental-guitar-in-the-dining-room/2029-10-31/
CATEGORIES:All Ages,Fun,Music
END:VEVENT
BEGIN:VEVENT
DTSTART;TZID=UTC:20291102T120000
DTEND;TZID=UTC:20291102T150000
DTSTAMP:20260422T213546
CREATED:20260329T204653Z
LAST-MODIFIED:20260329T204653Z
UID:10000465-1888315200-1888326000@www.coyote-grill.com
SUMMARY:Paint and Sip with Gracefully Painting
DESCRIPTION:Join Donnette Keys of Gracefully Painting to create a masterpiece of your very own! Every Friday features a different painting – please use the Eventbrite link below to see upcoming topics. Join us for a meal before or after the session\, and don’t forget to fuel your inner artist with a drink or two while you paint! Reservations are made through Eventbrite\, not the Coyote Grill.
URL:https://www.coyote-grill.com/event/paint-and-sip-with-gracefully-painting-3/2029-11-02/
CATEGORIES:All Ages,Fun
END:VEVENT
END:VCALENDAR