BEGIN:VCALENDAR
VERSION:2.0
PRODID:-//Coyote Grill at San Ignacio - ECPv6.15.18//NONSGML v1.0//EN
CALSCALE:GREGORIAN
METHOD:PUBLISH
X-WR-CALNAME:Coyote Grill at San Ignacio
X-ORIGINAL-URL:https://www.coyote-grill.com
X-WR-CALDESC:Events for Coyote Grill at San Ignacio
REFRESH-INTERVAL;VALUE=DURATION:PT1H
X-Robots-Tag:noindex
X-PUBLISHED-TTL:PT1H
BEGIN:VTIMEZONE
TZID:UTC
BEGIN:STANDARD
TZOFFSETFROM:+0000
TZOFFSETTO:+0000
TZNAME:UTC
DTSTART:20270101T000000
END:STANDARD
END:VTIMEZONE
BEGIN:VEVENT
DTSTART;TZID=UTC:20280825T120000
DTEND;TZID=UTC:20280825T150000
DTSTAMP:20260420T170720
CREATED:20260329T204653Z
LAST-MODIFIED:20260329T204653Z
UID:10000403-1850817600-1850828400@www.coyote-grill.com
SUMMARY:Paint and Sip with Gracefully Painting
DESCRIPTION:Join Donnette Keys of Gracefully Painting to create a masterpiece of your very own! Every Friday features a different painting – please use the Eventbrite link below to see upcoming topics. Join us for a meal before or after the session\, and don’t forget to fuel your inner artist with a drink or two while you paint! Reservations are made through Eventbrite\, not the Coyote Grill.
URL:https://www.coyote-grill.com/event/paint-and-sip-with-gracefully-painting-3/2028-08-25/
CATEGORIES:All Ages,Fun
END:VEVENT
BEGIN:VEVENT
DTSTART;TZID=UTC:20280830T170000
DTEND;TZID=UTC:20280830T190000
DTSTAMP:20260420T170720
CREATED:20260302T184924Z
LAST-MODIFIED:20260302T185121Z
UID:10000139-1851267600-1851274800@www.coyote-grill.com
SUMMARY:Karen Cannon - Easy Listening Instrumental Guitar
DESCRIPTION:Join beloved local easy-listening instrumental guitarist Karen Cannon in our dining room every Wednesday evening. Reservations are strongly recommended.
URL:https://www.coyote-grill.com/event/karen-cannon-easy-listening-instrumental-guitar-in-the-dining-room/2028-08-30/
CATEGORIES:All Ages,Fun,Music
END:VEVENT
BEGIN:VEVENT
DTSTART;TZID=UTC:20280901T120000
DTEND;TZID=UTC:20280901T150000
DTSTAMP:20260420T170720
CREATED:20260329T204653Z
LAST-MODIFIED:20260329T204653Z
UID:10000404-1851422400-1851433200@www.coyote-grill.com
SUMMARY:Paint and Sip with Gracefully Painting
DESCRIPTION:Join Donnette Keys of Gracefully Painting to create a masterpiece of your very own! Every Friday features a different painting – please use the Eventbrite link below to see upcoming topics. Join us for a meal before or after the session\, and don’t forget to fuel your inner artist with a drink or two while you paint! Reservations are made through Eventbrite\, not the Coyote Grill.
URL:https://www.coyote-grill.com/event/paint-and-sip-with-gracefully-painting-3/2028-09-01/
CATEGORIES:All Ages,Fun
END:VEVENT
BEGIN:VEVENT
DTSTART;TZID=UTC:20280906T170000
DTEND;TZID=UTC:20280906T190000
DTSTAMP:20260420T170720
CREATED:20260302T184924Z
LAST-MODIFIED:20260302T185121Z
UID:10000140-1851872400-1851879600@www.coyote-grill.com
SUMMARY:Karen Cannon - Easy Listening Instrumental Guitar
DESCRIPTION:Join beloved local easy-listening instrumental guitarist Karen Cannon in our dining room every Wednesday evening. Reservations are strongly recommended.
URL:https://www.coyote-grill.com/event/karen-cannon-easy-listening-instrumental-guitar-in-the-dining-room/2028-09-06/
CATEGORIES:All Ages,Fun,Music
END:VEVENT
BEGIN:VEVENT
DTSTART;TZID=UTC:20280908T120000
DTEND;TZID=UTC:20280908T150000
DTSTAMP:20260420T170720
CREATED:20260329T204653Z
LAST-MODIFIED:20260329T204653Z
UID:10000405-1852027200-1852038000@www.coyote-grill.com
SUMMARY:Paint and Sip with Gracefully Painting
DESCRIPTION:Join Donnette Keys of Gracefully Painting to create a masterpiece of your very own! Every Friday features a different painting – please use the Eventbrite link below to see upcoming topics. Join us for a meal before or after the session\, and don’t forget to fuel your inner artist with a drink or two while you paint! Reservations are made through Eventbrite\, not the Coyote Grill.
URL:https://www.coyote-grill.com/event/paint-and-sip-with-gracefully-painting-3/2028-09-08/
CATEGORIES:All Ages,Fun
END:VEVENT
BEGIN:VEVENT
DTSTART;TZID=UTC:20280913T170000
DTEND;TZID=UTC:20280913T190000
DTSTAMP:20260420T170720
CREATED:20260302T184924Z
LAST-MODIFIED:20260302T185121Z
UID:10000141-1852477200-1852484400@www.coyote-grill.com
SUMMARY:Karen Cannon - Easy Listening Instrumental Guitar
DESCRIPTION:Join beloved local easy-listening instrumental guitarist Karen Cannon in our dining room every Wednesday evening. Reservations are strongly recommended.
URL:https://www.coyote-grill.com/event/karen-cannon-easy-listening-instrumental-guitar-in-the-dining-room/2028-09-13/
CATEGORIES:All Ages,Fun,Music
END:VEVENT
BEGIN:VEVENT
DTSTART;TZID=UTC:20280915T120000
DTEND;TZID=UTC:20280915T150000
DTSTAMP:20260420T170720
CREATED:20260329T204653Z
LAST-MODIFIED:20260329T204653Z
UID:10000406-1852632000-1852642800@www.coyote-grill.com
SUMMARY:Paint and Sip with Gracefully Painting
DESCRIPTION:Join Donnette Keys of Gracefully Painting to create a masterpiece of your very own! Every Friday features a different painting – please use the Eventbrite link below to see upcoming topics. Join us for a meal before or after the session\, and don’t forget to fuel your inner artist with a drink or two while you paint! Reservations are made through Eventbrite\, not the Coyote Grill.
URL:https://www.coyote-grill.com/event/paint-and-sip-with-gracefully-painting-3/2028-09-15/
CATEGORIES:All Ages,Fun
END:VEVENT
BEGIN:VEVENT
DTSTART;TZID=UTC:20280920T170000
DTEND;TZID=UTC:20280920T190000
DTSTAMP:20260420T170720
CREATED:20260302T184924Z
LAST-MODIFIED:20260302T185121Z
UID:10000142-1853082000-1853089200@www.coyote-grill.com
SUMMARY:Karen Cannon - Easy Listening Instrumental Guitar
DESCRIPTION:Join beloved local easy-listening instrumental guitarist Karen Cannon in our dining room every Wednesday evening. Reservations are strongly recommended.
URL:https://www.coyote-grill.com/event/karen-cannon-easy-listening-instrumental-guitar-in-the-dining-room/2028-09-20/
CATEGORIES:All Ages,Fun,Music
END:VEVENT
BEGIN:VEVENT
DTSTART;TZID=UTC:20280922T120000
DTEND;TZID=UTC:20280922T150000
DTSTAMP:20260420T170720
CREATED:20260329T204653Z
LAST-MODIFIED:20260329T204653Z
UID:10000407-1853236800-1853247600@www.coyote-grill.com
SUMMARY:Paint and Sip with Gracefully Painting
DESCRIPTION:Join Donnette Keys of Gracefully Painting to create a masterpiece of your very own! Every Friday features a different painting – please use the Eventbrite link below to see upcoming topics. Join us for a meal before or after the session\, and don’t forget to fuel your inner artist with a drink or two while you paint! Reservations are made through Eventbrite\, not the Coyote Grill.
URL:https://www.coyote-grill.com/event/paint-and-sip-with-gracefully-painting-3/2028-09-22/
CATEGORIES:All Ages,Fun
END:VEVENT
BEGIN:VEVENT
DTSTART;TZID=UTC:20280927T170000
DTEND;TZID=UTC:20280927T190000
DTSTAMP:20260420T170720
CREATED:20260302T184924Z
LAST-MODIFIED:20260302T185121Z
UID:10000143-1853686800-1853694000@www.coyote-grill.com
SUMMARY:Karen Cannon - Easy Listening Instrumental Guitar
DESCRIPTION:Join beloved local easy-listening instrumental guitarist Karen Cannon in our dining room every Wednesday evening. Reservations are strongly recommended.
URL:https://www.coyote-grill.com/event/karen-cannon-easy-listening-instrumental-guitar-in-the-dining-room/2028-09-27/
CATEGORIES:All Ages,Fun,Music
END:VEVENT
BEGIN:VEVENT
DTSTART;TZID=UTC:20280929T120000
DTEND;TZID=UTC:20280929T150000
DTSTAMP:20260420T170721
CREATED:20260329T204653Z
LAST-MODIFIED:20260329T204653Z
UID:10000408-1853841600-1853852400@www.coyote-grill.com
SUMMARY:Paint and Sip with Gracefully Painting
DESCRIPTION:Join Donnette Keys of Gracefully Painting to create a masterpiece of your very own! Every Friday features a different painting – please use the Eventbrite link below to see upcoming topics. Join us for a meal before or after the session\, and don’t forget to fuel your inner artist with a drink or two while you paint! Reservations are made through Eventbrite\, not the Coyote Grill.
URL:https://www.coyote-grill.com/event/paint-and-sip-with-gracefully-painting-3/2028-09-29/
CATEGORIES:All Ages,Fun
END:VEVENT
BEGIN:VEVENT
DTSTART;TZID=UTC:20281004T170000
DTEND;TZID=UTC:20281004T190000
DTSTAMP:20260420T170721
CREATED:20260302T184924Z
LAST-MODIFIED:20260302T185121Z
UID:10000144-1854291600-1854298800@www.coyote-grill.com
SUMMARY:Karen Cannon - Easy Listening Instrumental Guitar
DESCRIPTION:Join beloved local easy-listening instrumental guitarist Karen Cannon in our dining room every Wednesday evening. Reservations are strongly recommended.
URL:https://www.coyote-grill.com/event/karen-cannon-easy-listening-instrumental-guitar-in-the-dining-room/2028-10-04/
CATEGORIES:All Ages,Fun,Music
END:VEVENT
BEGIN:VEVENT
DTSTART;TZID=UTC:20281006T120000
DTEND;TZID=UTC:20281006T150000
DTSTAMP:20260420T170721
CREATED:20260329T204653Z
LAST-MODIFIED:20260329T204653Z
UID:10000409-1854446400-1854457200@www.coyote-grill.com
SUMMARY:Paint and Sip with Gracefully Painting
DESCRIPTION:Join Donnette Keys of Gracefully Painting to create a masterpiece of your very own! Every Friday features a different painting – please use the Eventbrite link below to see upcoming topics. Join us for a meal before or after the session\, and don’t forget to fuel your inner artist with a drink or two while you paint! Reservations are made through Eventbrite\, not the Coyote Grill.
URL:https://www.coyote-grill.com/event/paint-and-sip-with-gracefully-painting-3/2028-10-06/
CATEGORIES:All Ages,Fun
END:VEVENT
BEGIN:VEVENT
DTSTART;TZID=UTC:20281011T170000
DTEND;TZID=UTC:20281011T190000
DTSTAMP:20260420T170721
CREATED:20260302T184924Z
LAST-MODIFIED:20260302T185121Z
UID:10000145-1854896400-1854903600@www.coyote-grill.com
SUMMARY:Karen Cannon - Easy Listening Instrumental Guitar
DESCRIPTION:Join beloved local easy-listening instrumental guitarist Karen Cannon in our dining room every Wednesday evening. Reservations are strongly recommended.
URL:https://www.coyote-grill.com/event/karen-cannon-easy-listening-instrumental-guitar-in-the-dining-room/2028-10-11/
CATEGORIES:All Ages,Fun,Music
END:VEVENT
BEGIN:VEVENT
DTSTART;TZID=UTC:20281013T120000
DTEND;TZID=UTC:20281013T150000
DTSTAMP:20260420T170721
CREATED:20260329T204653Z
LAST-MODIFIED:20260329T204653Z
UID:10000410-1855051200-1855062000@www.coyote-grill.com
SUMMARY:Paint and Sip with Gracefully Painting
DESCRIPTION:Join Donnette Keys of Gracefully Painting to create a masterpiece of your very own! Every Friday features a different painting – please use the Eventbrite link below to see upcoming topics. Join us for a meal before or after the session\, and don’t forget to fuel your inner artist with a drink or two while you paint! Reservations are made through Eventbrite\, not the Coyote Grill.
URL:https://www.coyote-grill.com/event/paint-and-sip-with-gracefully-painting-3/2028-10-13/
CATEGORIES:All Ages,Fun
END:VEVENT
BEGIN:VEVENT
DTSTART;TZID=UTC:20281018T170000
DTEND;TZID=UTC:20281018T190000
DTSTAMP:20260420T170721
CREATED:20260302T184924Z
LAST-MODIFIED:20260302T185121Z
UID:10000146-1855501200-1855508400@www.coyote-grill.com
SUMMARY:Karen Cannon - Easy Listening Instrumental Guitar
DESCRIPTION:Join beloved local easy-listening instrumental guitarist Karen Cannon in our dining room every Wednesday evening. Reservations are strongly recommended.
URL:https://www.coyote-grill.com/event/karen-cannon-easy-listening-instrumental-guitar-in-the-dining-room/2028-10-18/
CATEGORIES:All Ages,Fun,Music
END:VEVENT
BEGIN:VEVENT
DTSTART;TZID=UTC:20281020T120000
DTEND;TZID=UTC:20281020T150000
DTSTAMP:20260420T170721
CREATED:20260329T204653Z
LAST-MODIFIED:20260329T204653Z
UID:10000411-1855656000-1855666800@www.coyote-grill.com
SUMMARY:Paint and Sip with Gracefully Painting
DESCRIPTION:Join Donnette Keys of Gracefully Painting to create a masterpiece of your very own! Every Friday features a different painting – please use the Eventbrite link below to see upcoming topics. Join us for a meal before or after the session\, and don’t forget to fuel your inner artist with a drink or two while you paint! Reservations are made through Eventbrite\, not the Coyote Grill.
URL:https://www.coyote-grill.com/event/paint-and-sip-with-gracefully-painting-3/2028-10-20/
CATEGORIES:All Ages,Fun
END:VEVENT
BEGIN:VEVENT
DTSTART;TZID=UTC:20281025T170000
DTEND;TZID=UTC:20281025T190000
DTSTAMP:20260420T170721
CREATED:20260302T184924Z
LAST-MODIFIED:20260302T185121Z
UID:10000147-1856106000-1856113200@www.coyote-grill.com
SUMMARY:Karen Cannon - Easy Listening Instrumental Guitar
DESCRIPTION:Join beloved local easy-listening instrumental guitarist Karen Cannon in our dining room every Wednesday evening. Reservations are strongly recommended.
URL:https://www.coyote-grill.com/event/karen-cannon-easy-listening-instrumental-guitar-in-the-dining-room/2028-10-25/
CATEGORIES:All Ages,Fun,Music
END:VEVENT
BEGIN:VEVENT
DTSTART;TZID=UTC:20281027T120000
DTEND;TZID=UTC:20281027T150000
DTSTAMP:20260420T170721
CREATED:20260329T204653Z
LAST-MODIFIED:20260329T204653Z
UID:10000412-1856260800-1856271600@www.coyote-grill.com
SUMMARY:Paint and Sip with Gracefully Painting
DESCRIPTION:Join Donnette Keys of Gracefully Painting to create a masterpiece of your very own! Every Friday features a different painting – please use the Eventbrite link below to see upcoming topics. Join us for a meal before or after the session\, and don’t forget to fuel your inner artist with a drink or two while you paint! Reservations are made through Eventbrite\, not the Coyote Grill.
URL:https://www.coyote-grill.com/event/paint-and-sip-with-gracefully-painting-3/2028-10-27/
CATEGORIES:All Ages,Fun
END:VEVENT
BEGIN:VEVENT
DTSTART;TZID=UTC:20281101T170000
DTEND;TZID=UTC:20281101T190000
DTSTAMP:20260420T170721
CREATED:20260302T184924Z
LAST-MODIFIED:20260302T185121Z
UID:10000148-1856710800-1856718000@www.coyote-grill.com
SUMMARY:Karen Cannon - Easy Listening Instrumental Guitar
DESCRIPTION:Join beloved local easy-listening instrumental guitarist Karen Cannon in our dining room every Wednesday evening. Reservations are strongly recommended.
URL:https://www.coyote-grill.com/event/karen-cannon-easy-listening-instrumental-guitar-in-the-dining-room/2028-11-01/
CATEGORIES:All Ages,Fun,Music
END:VEVENT
BEGIN:VEVENT
DTSTART;TZID=UTC:20281103T120000
DTEND;TZID=UTC:20281103T150000
DTSTAMP:20260420T170721
CREATED:20260329T204653Z
LAST-MODIFIED:20260329T204653Z
UID:10000413-1856865600-1856876400@www.coyote-grill.com
SUMMARY:Paint and Sip with Gracefully Painting
DESCRIPTION:Join Donnette Keys of Gracefully Painting to create a masterpiece of your very own! Every Friday features a different painting – please use the Eventbrite link below to see upcoming topics. Join us for a meal before or after the session\, and don’t forget to fuel your inner artist with a drink or two while you paint! Reservations are made through Eventbrite\, not the Coyote Grill.
URL:https://www.coyote-grill.com/event/paint-and-sip-with-gracefully-painting-3/2028-11-03/
CATEGORIES:All Ages,Fun
END:VEVENT
BEGIN:VEVENT
DTSTART;TZID=UTC:20281108T170000
DTEND;TZID=UTC:20281108T190000
DTSTAMP:20260420T170721
CREATED:20260302T184924Z
LAST-MODIFIED:20260302T185121Z
UID:10000149-1857315600-1857322800@www.coyote-grill.com
SUMMARY:Karen Cannon - Easy Listening Instrumental Guitar
DESCRIPTION:Join beloved local easy-listening instrumental guitarist Karen Cannon in our dining room every Wednesday evening. Reservations are strongly recommended.
URL:https://www.coyote-grill.com/event/karen-cannon-easy-listening-instrumental-guitar-in-the-dining-room/2028-11-08/
CATEGORIES:All Ages,Fun,Music
END:VEVENT
BEGIN:VEVENT
DTSTART;TZID=UTC:20281110T120000
DTEND;TZID=UTC:20281110T150000
DTSTAMP:20260420T170721
CREATED:20260329T204653Z
LAST-MODIFIED:20260329T204653Z
UID:10000414-1857470400-1857481200@www.coyote-grill.com
SUMMARY:Paint and Sip with Gracefully Painting
DESCRIPTION:Join Donnette Keys of Gracefully Painting to create a masterpiece of your very own! Every Friday features a different painting – please use the Eventbrite link below to see upcoming topics. Join us for a meal before or after the session\, and don’t forget to fuel your inner artist with a drink or two while you paint! Reservations are made through Eventbrite\, not the Coyote Grill.
URL:https://www.coyote-grill.com/event/paint-and-sip-with-gracefully-painting-3/2028-11-10/
CATEGORIES:All Ages,Fun
END:VEVENT
BEGIN:VEVENT
DTSTART;TZID=UTC:20281115T170000
DTEND;TZID=UTC:20281115T190000
DTSTAMP:20260420T170721
CREATED:20260302T184924Z
LAST-MODIFIED:20260302T185121Z
UID:10000150-1857920400-1857927600@www.coyote-grill.com
SUMMARY:Karen Cannon - Easy Listening Instrumental Guitar
DESCRIPTION:Join beloved local easy-listening instrumental guitarist Karen Cannon in our dining room every Wednesday evening. Reservations are strongly recommended.
URL:https://www.coyote-grill.com/event/karen-cannon-easy-listening-instrumental-guitar-in-the-dining-room/2028-11-15/
CATEGORIES:All Ages,Fun,Music
END:VEVENT
BEGIN:VEVENT
DTSTART;TZID=UTC:20281117T120000
DTEND;TZID=UTC:20281117T150000
DTSTAMP:20260420T170721
CREATED:20260329T204653Z
LAST-MODIFIED:20260329T204653Z
UID:10000415-1858075200-1858086000@www.coyote-grill.com
SUMMARY:Paint and Sip with Gracefully Painting
DESCRIPTION:Join Donnette Keys of Gracefully Painting to create a masterpiece of your very own! Every Friday features a different painting – please use the Eventbrite link below to see upcoming topics. Join us for a meal before or after the session\, and don’t forget to fuel your inner artist with a drink or two while you paint! Reservations are made through Eventbrite\, not the Coyote Grill.
URL:https://www.coyote-grill.com/event/paint-and-sip-with-gracefully-painting-3/2028-11-17/
CATEGORIES:All Ages,Fun
END:VEVENT
BEGIN:VEVENT
DTSTART;TZID=UTC:20281122T170000
DTEND;TZID=UTC:20281122T190000
DTSTAMP:20260420T170721
CREATED:20260302T184924Z
LAST-MODIFIED:20260302T185121Z
UID:10000151-1858525200-1858532400@www.coyote-grill.com
SUMMARY:Karen Cannon - Easy Listening Instrumental Guitar
DESCRIPTION:Join beloved local easy-listening instrumental guitarist Karen Cannon in our dining room every Wednesday evening. Reservations are strongly recommended.
URL:https://www.coyote-grill.com/event/karen-cannon-easy-listening-instrumental-guitar-in-the-dining-room/2028-11-22/
CATEGORIES:All Ages,Fun,Music
END:VEVENT
BEGIN:VEVENT
DTSTART;TZID=UTC:20281124T120000
DTEND;TZID=UTC:20281124T150000
DTSTAMP:20260420T170721
CREATED:20260329T204653Z
LAST-MODIFIED:20260329T204653Z
UID:10000416-1858680000-1858690800@www.coyote-grill.com
SUMMARY:Paint and Sip with Gracefully Painting
DESCRIPTION:Join Donnette Keys of Gracefully Painting to create a masterpiece of your very own! Every Friday features a different painting – please use the Eventbrite link below to see upcoming topics. Join us for a meal before or after the session\, and don’t forget to fuel your inner artist with a drink or two while you paint! Reservations are made through Eventbrite\, not the Coyote Grill.
URL:https://www.coyote-grill.com/event/paint-and-sip-with-gracefully-painting-3/2028-11-24/
CATEGORIES:All Ages,Fun
END:VEVENT
BEGIN:VEVENT
DTSTART;TZID=UTC:20281129T170000
DTEND;TZID=UTC:20281129T190000
DTSTAMP:20260420T170721
CREATED:20260302T184924Z
LAST-MODIFIED:20260302T185121Z
UID:10000152-1859130000-1859137200@www.coyote-grill.com
SUMMARY:Karen Cannon - Easy Listening Instrumental Guitar
DESCRIPTION:Join beloved local easy-listening instrumental guitarist Karen Cannon in our dining room every Wednesday evening. Reservations are strongly recommended.
URL:https://www.coyote-grill.com/event/karen-cannon-easy-listening-instrumental-guitar-in-the-dining-room/2028-11-29/
CATEGORIES:All Ages,Fun,Music
END:VEVENT
BEGIN:VEVENT
DTSTART;TZID=UTC:20281201T120000
DTEND;TZID=UTC:20281201T150000
DTSTAMP:20260420T170721
CREATED:20260329T204653Z
LAST-MODIFIED:20260329T204653Z
UID:10000417-1859284800-1859295600@www.coyote-grill.com
SUMMARY:Paint and Sip with Gracefully Painting
DESCRIPTION:Join Donnette Keys of Gracefully Painting to create a masterpiece of your very own! Every Friday features a different painting – please use the Eventbrite link below to see upcoming topics. Join us for a meal before or after the session\, and don’t forget to fuel your inner artist with a drink or two while you paint! Reservations are made through Eventbrite\, not the Coyote Grill.
URL:https://www.coyote-grill.com/event/paint-and-sip-with-gracefully-painting-3/2028-12-01/
CATEGORIES:All Ages,Fun
END:VEVENT
BEGIN:VEVENT
DTSTART;TZID=UTC:20281206T170000
DTEND;TZID=UTC:20281206T190000
DTSTAMP:20260420T170721
CREATED:20260302T184924Z
LAST-MODIFIED:20260302T185121Z
UID:10000153-1859734800-1859742000@www.coyote-grill.com
SUMMARY:Karen Cannon - Easy Listening Instrumental Guitar
DESCRIPTION:Join beloved local easy-listening instrumental guitarist Karen Cannon in our dining room every Wednesday evening. Reservations are strongly recommended.
URL:https://www.coyote-grill.com/event/karen-cannon-easy-listening-instrumental-guitar-in-the-dining-room/2028-12-06/
CATEGORIES:All Ages,Fun,Music
END:VEVENT
END:VCALENDAR