BEGIN:VCALENDAR
VERSION:2.0
PRODID:-//Coyote Grill at San Ignacio - ECPv6.15.18//NONSGML v1.0//EN
CALSCALE:GREGORIAN
METHOD:PUBLISH
X-ORIGINAL-URL:https://www.coyote-grill.com
X-WR-CALDESC:Events for Coyote Grill at San Ignacio
REFRESH-INTERVAL;VALUE=DURATION:PT1H
X-Robots-Tag:noindex
X-PUBLISHED-TTL:PT1H
BEGIN:VTIMEZONE
TZID:UTC
BEGIN:STANDARD
TZOFFSETFROM:+0000
TZOFFSETTO:+0000
TZNAME:UTC
DTSTART:20260101T000000
END:STANDARD
END:VTIMEZONE
BEGIN:VEVENT
DTSTART;TZID=UTC:20270602T170000
DTEND;TZID=UTC:20270602T190000
DTSTAMP:20260423T170503
CREATED:20260302T184924Z
LAST-MODIFIED:20260302T185121Z
UID:10000074-1811955600-1811962800@www.coyote-grill.com
SUMMARY:Karen Cannon - Easy Listening Instrumental Guitar
DESCRIPTION:Join beloved local easy-listening instrumental guitarist Karen Cannon in our dining room every Wednesday evening. Reservations are strongly recommended.
URL:https://www.coyote-grill.com/event/karen-cannon-easy-listening-instrumental-guitar-in-the-dining-room/2027-06-02/
CATEGORIES:All Ages,Fun,Music
END:VEVENT
BEGIN:VEVENT
DTSTART;TZID=UTC:20270604T120000
DTEND;TZID=UTC:20270604T150000
DTSTAMP:20260423T170503
CREATED:20260329T204653Z
LAST-MODIFIED:20260329T204653Z
UID:10000339-1812110400-1812121200@www.coyote-grill.com
SUMMARY:Paint and Sip with Gracefully Painting
DESCRIPTION:Join Donnette Keys of Gracefully Painting to create a masterpiece of your very own! Every Friday features a different painting – please use the Eventbrite link below to see upcoming topics. Join us for a meal before or after the session\, and don’t forget to fuel your inner artist with a drink or two while you paint! Reservations are made through Eventbrite\, not the Coyote Grill.
URL:https://www.coyote-grill.com/event/paint-and-sip-with-gracefully-painting-3/2027-06-04/
CATEGORIES:All Ages,Fun
END:VEVENT
BEGIN:VEVENT
DTSTART;TZID=UTC:20270609T170000
DTEND;TZID=UTC:20270609T190000
DTSTAMP:20260423T170503
CREATED:20260302T184924Z
LAST-MODIFIED:20260302T185121Z
UID:10000075-1812560400-1812567600@www.coyote-grill.com
SUMMARY:Karen Cannon - Easy Listening Instrumental Guitar
DESCRIPTION:Join beloved local easy-listening instrumental guitarist Karen Cannon in our dining room every Wednesday evening. Reservations are strongly recommended.
URL:https://www.coyote-grill.com/event/karen-cannon-easy-listening-instrumental-guitar-in-the-dining-room/2027-06-09/
CATEGORIES:All Ages,Fun,Music
END:VEVENT
BEGIN:VEVENT
DTSTART;TZID=UTC:20270611T120000
DTEND;TZID=UTC:20270611T150000
DTSTAMP:20260423T170503
CREATED:20260329T204653Z
LAST-MODIFIED:20260329T204653Z
UID:10000340-1812715200-1812726000@www.coyote-grill.com
SUMMARY:Paint and Sip with Gracefully Painting
DESCRIPTION:Join Donnette Keys of Gracefully Painting to create a masterpiece of your very own! Every Friday features a different painting – please use the Eventbrite link below to see upcoming topics. Join us for a meal before or after the session\, and don’t forget to fuel your inner artist with a drink or two while you paint! Reservations are made through Eventbrite\, not the Coyote Grill.
URL:https://www.coyote-grill.com/event/paint-and-sip-with-gracefully-painting-3/2027-06-11/
CATEGORIES:All Ages,Fun
END:VEVENT
BEGIN:VEVENT
DTSTART;TZID=UTC:20270616T170000
DTEND;TZID=UTC:20270616T190000
DTSTAMP:20260423T170503
CREATED:20260302T184924Z
LAST-MODIFIED:20260302T185121Z
UID:10000076-1813165200-1813172400@www.coyote-grill.com
SUMMARY:Karen Cannon - Easy Listening Instrumental Guitar
DESCRIPTION:Join beloved local easy-listening instrumental guitarist Karen Cannon in our dining room every Wednesday evening. Reservations are strongly recommended.
URL:https://www.coyote-grill.com/event/karen-cannon-easy-listening-instrumental-guitar-in-the-dining-room/2027-06-16/
CATEGORIES:All Ages,Fun,Music
END:VEVENT
BEGIN:VEVENT
DTSTART;TZID=UTC:20270618T120000
DTEND;TZID=UTC:20270618T150000
DTSTAMP:20260423T170503
CREATED:20260329T204653Z
LAST-MODIFIED:20260329T204653Z
UID:10000341-1813320000-1813330800@www.coyote-grill.com
SUMMARY:Paint and Sip with Gracefully Painting
DESCRIPTION:Join Donnette Keys of Gracefully Painting to create a masterpiece of your very own! Every Friday features a different painting – please use the Eventbrite link below to see upcoming topics. Join us for a meal before or after the session\, and don’t forget to fuel your inner artist with a drink or two while you paint! Reservations are made through Eventbrite\, not the Coyote Grill.
URL:https://www.coyote-grill.com/event/paint-and-sip-with-gracefully-painting-3/2027-06-18/
CATEGORIES:All Ages,Fun
END:VEVENT
BEGIN:VEVENT
DTSTART;TZID=UTC:20270623T170000
DTEND;TZID=UTC:20270623T190000
DTSTAMP:20260423T170503
CREATED:20260302T184924Z
LAST-MODIFIED:20260302T185121Z
UID:10000077-1813770000-1813777200@www.coyote-grill.com
SUMMARY:Karen Cannon - Easy Listening Instrumental Guitar
DESCRIPTION:Join beloved local easy-listening instrumental guitarist Karen Cannon in our dining room every Wednesday evening. Reservations are strongly recommended.
URL:https://www.coyote-grill.com/event/karen-cannon-easy-listening-instrumental-guitar-in-the-dining-room/2027-06-23/
CATEGORIES:All Ages,Fun,Music
END:VEVENT
BEGIN:VEVENT
DTSTART;TZID=UTC:20270625T120000
DTEND;TZID=UTC:20270625T150000
DTSTAMP:20260423T170503
CREATED:20260329T204653Z
LAST-MODIFIED:20260329T204653Z
UID:10000342-1813924800-1813935600@www.coyote-grill.com
SUMMARY:Paint and Sip with Gracefully Painting
DESCRIPTION:Join Donnette Keys of Gracefully Painting to create a masterpiece of your very own! Every Friday features a different painting – please use the Eventbrite link below to see upcoming topics. Join us for a meal before or after the session\, and don’t forget to fuel your inner artist with a drink or two while you paint! Reservations are made through Eventbrite\, not the Coyote Grill.
URL:https://www.coyote-grill.com/event/paint-and-sip-with-gracefully-painting-3/2027-06-25/
CATEGORIES:All Ages,Fun
END:VEVENT
BEGIN:VEVENT
DTSTART;TZID=UTC:20270630T170000
DTEND;TZID=UTC:20270630T190000
DTSTAMP:20260423T170503
CREATED:20260302T184924Z
LAST-MODIFIED:20260302T185121Z
UID:10000078-1814374800-1814382000@www.coyote-grill.com
SUMMARY:Karen Cannon - Easy Listening Instrumental Guitar
DESCRIPTION:Join beloved local easy-listening instrumental guitarist Karen Cannon in our dining room every Wednesday evening. Reservations are strongly recommended.
URL:https://www.coyote-grill.com/event/karen-cannon-easy-listening-instrumental-guitar-in-the-dining-room/2027-06-30/
CATEGORIES:All Ages,Fun,Music
END:VEVENT
END:VCALENDAR