BEGIN:VCALENDAR
VERSION:2.0
PRODID:-//Coyote Grill at San Ignacio - ECPv6.15.18//NONSGML v1.0//EN
CALSCALE:GREGORIAN
METHOD:PUBLISH
X-WR-CALNAME:Coyote Grill at San Ignacio
X-ORIGINAL-URL:https://www.coyote-grill.com
X-WR-CALDESC:Events for Coyote Grill at San Ignacio
REFRESH-INTERVAL;VALUE=DURATION:PT1H
X-Robots-Tag:noindex
X-PUBLISHED-TTL:PT1H
BEGIN:VTIMEZONE
TZID:UTC
BEGIN:STANDARD
TZOFFSETFROM:+0000
TZOFFSETTO:+0000
TZNAME:UTC
DTSTART:20250101T000000
END:STANDARD
END:VTIMEZONE
BEGIN:VEVENT
DTSTART;TZID=UTC:20260325T170000
DTEND;TZID=UTC:20260325T190000
DTSTAMP:20260420T112431
CREATED:20260302T184924Z
LAST-MODIFIED:20260302T185121Z
UID:10000012-1774458000-1774465200@www.coyote-grill.com
SUMMARY:Karen Cannon - Easy Listening Instrumental Guitar
DESCRIPTION:Join beloved local easy-listening instrumental guitarist Karen Cannon in our dining room every Wednesday evening. Reservations are strongly recommended.
URL:https://www.coyote-grill.com/event/karen-cannon-easy-listening-instrumental-guitar-in-the-dining-room/2026-03-25/
CATEGORIES:All Ages,Fun,Music
END:VEVENT
BEGIN:VEVENT
DTSTART;TZID=UTC:20260323T150000
DTEND;TZID=UTC:20260323T180000
DTSTAMP:20260420T112431
CREATED:20260301T184000Z
LAST-MODIFIED:20260301T184000Z
UID:10000004-1774278000-1774288800@www.coyote-grill.com
SUMMARY:Angel Perez - Live Country and Rock Music
DESCRIPTION:Angel Perez brings boot-scootin’ country and rock music to our patio. No reservations accepted; patio seating is first-come\, first-served.
URL:https://www.coyote-grill.com/event/angel-perez-live-country-and-rock-music/2026-03-23/
CATEGORIES:All Ages,Fun,Music
END:VEVENT
BEGIN:VEVENT
DTSTART;TZID=UTC:20260321T180000
DTEND;TZID=UTC:20260321T200000
DTSTAMP:20260420T112431
CREATED:20260301T183718Z
LAST-MODIFIED:20260301T183718Z
UID:10000002-1774116000-1774123200@www.coyote-grill.com
SUMMARY:Fred the Astronomy Guy
DESCRIPTION:Join Fred the Astronomy Guy on our patio after 6pm! Fred will bring his telescope and expertise to share with guests. Indoor reservations are fine\, you can pop out to the patio any time!
URL:https://www.coyote-grill.com/event/fred-the-astronomy-guy/2026-03-21/
CATEGORIES:All Ages,Education,Fun
END:VEVENT
BEGIN:VEVENT
DTSTART;TZID=UTC:20260318T170000
DTEND;TZID=UTC:20260318T190000
DTSTAMP:20260420T112431
CREATED:20260302T184924Z
LAST-MODIFIED:20260302T185121Z
UID:10000011-1773853200-1773860400@www.coyote-grill.com
SUMMARY:Karen Cannon - Easy Listening Instrumental Guitar
DESCRIPTION:Join beloved local easy-listening instrumental guitarist Karen Cannon in our dining room every Wednesday evening. Reservations are strongly recommended.
URL:https://www.coyote-grill.com/event/karen-cannon-easy-listening-instrumental-guitar-in-the-dining-room/2026-03-18/
CATEGORIES:All Ages,Fun,Music
END:VEVENT
BEGIN:VEVENT
DTSTART;TZID=UTC:20260314T160000
DTEND;TZID=UTC:20260314T180000
DTSTAMP:20260420T112431
CREATED:20260301T184219Z
LAST-MODIFIED:20260301T184433Z
UID:10000005-1773504000-1773511200@www.coyote-grill.com
SUMMARY:Andy Hersey - Live Country-Rock and Eclectic Music
DESCRIPTION:Andy Hersey brings his fun mixture of Country-Rock\, silly drinking songs\, and love songs to the patio. No reservations accepted; patio seating is first-come\, first-served.
URL:https://www.coyote-grill.com/event/andy-hersey-live-country-rock-and-eclectic-music/
CATEGORIES:All Ages,Fun,Music
END:VEVENT
BEGIN:VEVENT
DTSTART;TZID=UTC:20260311T170000
DTEND;TZID=UTC:20260311T190000
DTSTAMP:20260420T112431
CREATED:20260302T184924Z
LAST-MODIFIED:20260302T185121Z
UID:10000010-1773248400-1773255600@www.coyote-grill.com
SUMMARY:Karen Cannon - Easy Listening Instrumental Guitar
DESCRIPTION:Join beloved local easy-listening instrumental guitarist Karen Cannon in our dining room every Wednesday evening. Reservations are strongly recommended.
URL:https://www.coyote-grill.com/event/karen-cannon-easy-listening-instrumental-guitar-in-the-dining-room/2026-03-11/
CATEGORIES:All Ages,Fun,Music
END:VEVENT
BEGIN:VEVENT
DTSTART;TZID=UTC:20260309T150000
DTEND;TZID=UTC:20260309T180000
DTSTAMP:20260420T112431
CREATED:20260301T184000Z
LAST-MODIFIED:20260301T184000Z
UID:10000003-1773068400-1773079200@www.coyote-grill.com
SUMMARY:Angel Perez - Live Country and Rock Music
DESCRIPTION:Angel Perez brings boot-scootin’ country and rock music to our patio. No reservations accepted; patio seating is first-come\, first-served.
URL:https://www.coyote-grill.com/event/angel-perez-live-country-and-rock-music/2026-03-09/
CATEGORIES:All Ages,Fun,Music
END:VEVENT
BEGIN:VEVENT
DTSTART;TZID=UTC:20260307T180000
DTEND;TZID=UTC:20260307T200000
DTSTAMP:20260420T112431
CREATED:20260301T183718Z
LAST-MODIFIED:20260301T183718Z
UID:10000001-1772906400-1772913600@www.coyote-grill.com
SUMMARY:Fred the Astronomy Guy
DESCRIPTION:Join Fred the Astronomy Guy on our patio after 6pm! Fred will bring his telescope and expertise to share with guests. Indoor reservations are fine\, you can pop out to the patio any time!
URL:https://www.coyote-grill.com/event/fred-the-astronomy-guy/2026-03-07/
CATEGORIES:All Ages,Education,Fun
END:VEVENT
BEGIN:VEVENT
DTSTART;TZID=UTC:20260304T170000
DTEND;TZID=UTC:20260304T190000
DTSTAMP:20260420T112431
CREATED:20260302T184924Z
LAST-MODIFIED:20260302T185121Z
UID:10000009-1772643600-1772650800@www.coyote-grill.com
SUMMARY:Karen Cannon - Easy Listening Instrumental Guitar
DESCRIPTION:Join beloved local easy-listening instrumental guitarist Karen Cannon in our dining room every Wednesday evening. Reservations are strongly recommended.
URL:https://www.coyote-grill.com/event/karen-cannon-easy-listening-instrumental-guitar-in-the-dining-room/2026-03-04/
CATEGORIES:All Ages,Fun,Music
END:VEVENT
END:VCALENDAR