BEGIN:VCALENDAR
VERSION:2.0
PRODID:-//Coyote Grill at San Ignacio - ECPv6.15.18//NONSGML v1.0//EN
CALSCALE:GREGORIAN
METHOD:PUBLISH
X-ORIGINAL-URL:https://www.coyote-grill.com
X-WR-CALDESC:Events for Coyote Grill at San Ignacio
REFRESH-INTERVAL;VALUE=DURATION:PT1H
X-Robots-Tag:noindex
X-PUBLISHED-TTL:PT1H
BEGIN:VTIMEZONE
TZID:UTC
BEGIN:STANDARD
TZOFFSETFROM:+0000
TZOFFSETTO:+0000
TZNAME:UTC
DTSTART:20250101T000000
END:STANDARD
END:VTIMEZONE
BEGIN:VEVENT
DTSTART;TZID=UTC:20260426T090000
DTEND;TZID=UTC:20260426T150000
DTSTAMP:20260422T113503
CREATED:20260409T022750Z
LAST-MODIFIED:20260409T022750Z
UID:10000545-1777194000-1777215600@www.coyote-grill.com
SUMMARY:Last Brunch of the Season
DESCRIPTION:Our last Sunday Brunch until November. Reservations recommended.
URL:https://www.coyote-grill.com/event/last-brunch-of-the-season/
CATEGORIES:All Ages
END:VEVENT
END:VCALENDAR